BEGIN:VCALENDAR
VERSION:2.0
PRODID:-//Sun Crystals - ECPv6.15.20//NONSGML v1.0//EN
CALSCALE:GREGORIAN
METHOD:PUBLISH
X-WR-CALNAME:Sun Crystals
X-ORIGINAL-URL:https://suncrystals.ca
X-WR-CALDESC:Events for Sun Crystals
REFRESH-INTERVAL;VALUE=DURATION:PT1H
X-Robots-Tag:noindex
X-PUBLISHED-TTL:PT1H
BEGIN:VTIMEZONE
TZID:UTC
BEGIN:STANDARD
TZOFFSETFROM:+0000
TZOFFSETTO:+0000
TZNAME:UTC
DTSTART:20240101T000000
END:STANDARD
END:VTIMEZONE
BEGIN:VEVENT
DTSTART;TZID=UTC:20250504T120000
DTEND;TZID=UTC:20250504T140000
DTSTAMP:20260422T160355
CREATED:20250416T172242Z
LAST-MODIFIED:20250416T174524Z
UID:10000039-1746360000-1746367200@suncrystals.ca
SUMMARY:Energetic Alignment and Activation of Your Space for Health  & Abundance
DESCRIPTION:Facilitator:     Mala Singh                                                     Cost: $60.00 \nThis is an interactive workshop where you will experience how misalignment of energy in your environment can affect what you manifest in your health and abundance.  \n\n\nThis is what we will cover: \nI will share simple and practical tools how to amplify your personal energy in your space that don’t require breaking the bank or heavy duty renovations.  For crystal & essential oil lovers\, I’ve also included a section on how to use them effectively to accelerate your results. \n\n1. Learn energetic principles to enhance energy flow for your space\n2. Learn the do’s and don’ts\n3. Determine your best health & abundance direction using energy testing\n4. Learn how to activate your health directions\n\nE-transfer to Mala@PainToPeaceSolutions.com
URL:https://suncrystals.ca/workshop-calendar/energetic-alignment-and-activation-of-your-space-for-health-abundance/
LOCATION:The Lotus Room at Sun Crystals\, 26 Ainslie Street North\, Cambridge\, ON\, N1R 3J4\, Canada
ORGANIZER;CN="Mala Singh":MAILTO:Mala@PainToPeaceSolutions.com
END:VEVENT
BEGIN:VEVENT
DTSTART;TZID=UTC:20250426T120000
DTEND;TZID=UTC:20250426T140000
DTSTAMP:20260422T160355
CREATED:20250416T173731Z
LAST-MODIFIED:20250416T174959Z
UID:10000040-1745668800-1745676000@suncrystals.ca
SUMMARY:Free Mini Energy assessments 
DESCRIPTION:Facilitator:  Mala Singh                                                | Cost: $0 \n Free Mini Energy assessments \n15 min. Energy Testing  where you will get key information in 4 categories:\nVitality – How topped up is your energy reservoir\nEmotional balance – What emotions are weakening you\nMental Focus – Are you grounded and are your left and right brain integrated\nProtection & Immunity  –  How robust is your aura or biofield and are there any weaknesses in your energetic shield.\n\nIt’s best to reserve your slot so you don’t have to wait. Sign up in store\, call  226-223-2873 or email sales@suncrystals.ca
URL:https://suncrystals.ca/workshop-calendar/free-mini-energy-assessments/
LOCATION:The Lotus Room at Sun Crystals\, 26 Ainslie Street North\, Cambridge\, ON\, N1R 3J4\, Canada
ORGANIZER;CN="Mala Singh":MAILTO:Mala@PainToPeaceSolutions.com
END:VEVENT
END:VCALENDAR