BEGIN:VCALENDAR
VERSION:2.0
PRODID:-//Sun Crystals - ECPv6.15.20//NONSGML v1.0//EN
CALSCALE:GREGORIAN
METHOD:PUBLISH
X-ORIGINAL-URL:https://suncrystals.ca
X-WR-CALDESC:Events for Sun Crystals
REFRESH-INTERVAL;VALUE=DURATION:PT1H
X-Robots-Tag:noindex
X-PUBLISHED-TTL:PT1H
BEGIN:VTIMEZONE
TZID:UTC
BEGIN:STANDARD
TZOFFSETFROM:+0000
TZOFFSETTO:+0000
TZNAME:UTC
DTSTART:20300101T000000
END:STANDARD
END:VTIMEZONE
BEGIN:VEVENT
DTSTART;TZID=UTC:20310224T190000
DTEND;TZID=UTC:20310224T200000
DTSTAMP:20260420T203243
CREATED:20260403T161612Z
LAST-MODIFIED:20260403T161617Z
UID:10001754-1929726000-1929729600@suncrystals.ca
SUMMARY:Sound Bath
DESCRIPTION:Facilitator: Tracy Arbuckle              |          Cost: $35.55 \n  \nJoin me in a meditative experience where you will be bathed in resonate sounds produced by singing bowls\, gongs and chimes. The goal is to promote relaxation\, mindfulness and a deeper state of calm \n$10 off your first Sound Bath with coupon. Code SCSAVE10 \nBring a yoga mat\, blanket and pillow \n 
URL:https://suncrystals.ca/workshop-calendar/sound-bath-2-2-2/2031-02-24/
LOCATION:The Lotus Room at Sun Crystals\, 26 Ainslie Street North\, Cambridge\, ON\, N1R 3J4\, Canada
ORGANIZER;CN="Tracy Arbuckle":MAILTO:tracy112274@gmail.com
END:VEVENT
BEGIN:VEVENT
DTSTART;TZID=UTC:20310303T190000
DTEND;TZID=UTC:20310303T200000
DTSTAMP:20260420T203243
CREATED:20260403T161612Z
LAST-MODIFIED:20260403T161617Z
UID:10001755-1930330800-1930334400@suncrystals.ca
SUMMARY:Sound Bath
DESCRIPTION:Facilitator: Tracy Arbuckle              |          Cost: $35.55 \n  \nJoin me in a meditative experience where you will be bathed in resonate sounds produced by singing bowls\, gongs and chimes. The goal is to promote relaxation\, mindfulness and a deeper state of calm \n$10 off your first Sound Bath with coupon. Code SCSAVE10 \nBring a yoga mat\, blanket and pillow \n 
URL:https://suncrystals.ca/workshop-calendar/sound-bath-2-2-2/2031-03-03/
LOCATION:The Lotus Room at Sun Crystals\, 26 Ainslie Street North\, Cambridge\, ON\, N1R 3J4\, Canada
ORGANIZER;CN="Tracy Arbuckle":MAILTO:tracy112274@gmail.com
END:VEVENT
BEGIN:VEVENT
DTSTART;TZID=UTC:20310310T190000
DTEND;TZID=UTC:20310310T200000
DTSTAMP:20260420T203243
CREATED:20260403T161612Z
LAST-MODIFIED:20260403T161617Z
UID:10001756-1930935600-1930939200@suncrystals.ca
SUMMARY:Sound Bath
DESCRIPTION:Facilitator: Tracy Arbuckle              |          Cost: $35.55 \n  \nJoin me in a meditative experience where you will be bathed in resonate sounds produced by singing bowls\, gongs and chimes. The goal is to promote relaxation\, mindfulness and a deeper state of calm \n$10 off your first Sound Bath with coupon. Code SCSAVE10 \nBring a yoga mat\, blanket and pillow \n 
URL:https://suncrystals.ca/workshop-calendar/sound-bath-2-2-2/2031-03-10/
LOCATION:The Lotus Room at Sun Crystals\, 26 Ainslie Street North\, Cambridge\, ON\, N1R 3J4\, Canada
ORGANIZER;CN="Tracy Arbuckle":MAILTO:tracy112274@gmail.com
END:VEVENT
BEGIN:VEVENT
DTSTART;TZID=UTC:20310317T190000
DTEND;TZID=UTC:20310317T200000
DTSTAMP:20260420T203243
CREATED:20260403T161612Z
LAST-MODIFIED:20260403T161617Z
UID:10001757-1931540400-1931544000@suncrystals.ca
SUMMARY:Sound Bath
DESCRIPTION:Facilitator: Tracy Arbuckle              |          Cost: $35.55 \n  \nJoin me in a meditative experience where you will be bathed in resonate sounds produced by singing bowls\, gongs and chimes. The goal is to promote relaxation\, mindfulness and a deeper state of calm \n$10 off your first Sound Bath with coupon. Code SCSAVE10 \nBring a yoga mat\, blanket and pillow \n 
URL:https://suncrystals.ca/workshop-calendar/sound-bath-2-2-2/2031-03-17/
LOCATION:The Lotus Room at Sun Crystals\, 26 Ainslie Street North\, Cambridge\, ON\, N1R 3J4\, Canada
ORGANIZER;CN="Tracy Arbuckle":MAILTO:tracy112274@gmail.com
END:VEVENT
BEGIN:VEVENT
DTSTART;TZID=UTC:20310324T190000
DTEND;TZID=UTC:20310324T200000
DTSTAMP:20260420T203243
CREATED:20260403T161612Z
LAST-MODIFIED:20260403T161617Z
UID:10001758-1932145200-1932148800@suncrystals.ca
SUMMARY:Sound Bath
DESCRIPTION:Facilitator: Tracy Arbuckle              |          Cost: $35.55 \n  \nJoin me in a meditative experience where you will be bathed in resonate sounds produced by singing bowls\, gongs and chimes. The goal is to promote relaxation\, mindfulness and a deeper state of calm \n$10 off your first Sound Bath with coupon. Code SCSAVE10 \nBring a yoga mat\, blanket and pillow \n 
URL:https://suncrystals.ca/workshop-calendar/sound-bath-2-2-2/2031-03-24/
LOCATION:The Lotus Room at Sun Crystals\, 26 Ainslie Street North\, Cambridge\, ON\, N1R 3J4\, Canada
ORGANIZER;CN="Tracy Arbuckle":MAILTO:tracy112274@gmail.com
END:VEVENT
BEGIN:VEVENT
DTSTART;TZID=UTC:20310331T190000
DTEND;TZID=UTC:20310331T200000
DTSTAMP:20260420T203243
CREATED:20260403T161612Z
LAST-MODIFIED:20260403T161617Z
UID:10001759-1932750000-1932753600@suncrystals.ca
SUMMARY:Sound Bath
DESCRIPTION:Facilitator: Tracy Arbuckle              |          Cost: $35.55 \n  \nJoin me in a meditative experience where you will be bathed in resonate sounds produced by singing bowls\, gongs and chimes. The goal is to promote relaxation\, mindfulness and a deeper state of calm \n$10 off your first Sound Bath with coupon. Code SCSAVE10 \nBring a yoga mat\, blanket and pillow \n 
URL:https://suncrystals.ca/workshop-calendar/sound-bath-2-2-2/2031-03-31/
LOCATION:The Lotus Room at Sun Crystals\, 26 Ainslie Street North\, Cambridge\, ON\, N1R 3J4\, Canada
ORGANIZER;CN="Tracy Arbuckle":MAILTO:tracy112274@gmail.com
END:VEVENT
END:VCALENDAR