BEGIN:VCALENDAR
VERSION:2.0
PRODID:-//Sun Crystals - ECPv6.15.20//NONSGML v1.0//EN
CALSCALE:GREGORIAN
METHOD:PUBLISH
X-ORIGINAL-URL:https://suncrystals.ca
X-WR-CALDESC:Events for Sun Crystals
REFRESH-INTERVAL;VALUE=DURATION:PT1H
X-Robots-Tag:noindex
X-PUBLISHED-TTL:PT1H
BEGIN:VTIMEZONE
TZID:UTC
BEGIN:STANDARD
TZOFFSETFROM:+0000
TZOFFSETTO:+0000
TZNAME:UTC
DTSTART:20240101T000000
END:STANDARD
END:VTIMEZONE
BEGIN:VEVENT
DTSTART;TZID=UTC:20250528T190000
DTEND;TZID=UTC:20250528T200000
DTSTAMP:20260420T084339
CREATED:20250412T191932Z
LAST-MODIFIED:20250412T192020Z
UID:10000037-1748458800-1748462400@suncrystals.ca
SUMMARY:Community Mindful Meditation
DESCRIPTION:Facilitator: Kristine and Janie             | Cost: $0 \nSun Crystals would like to invite you to a community meditation\, all levels are welcome. Meditation is used to help calm the mind and body and assist in keeping inner peace. \nCall Sun Crystals at 1-226-313-2873  or email sales@suncrystals.ca to book your spot.
URL:https://suncrystals.ca/workshop-calendar/community-mindful-meditation-2/2025-05-28/
LOCATION:The Lotus Room at Sun Crystals\, 26 Ainslie Street North\, Cambridge\, ON\, N1R 3J4\, Canada
ORGANIZER;CN="Sun Crystals":MAILTO:sales@suncrystals.ca
END:VEVENT
END:VCALENDAR