BEGIN:VCALENDAR
VERSION:2.0
PRODID:-//Sun Crystals - ECPv6.15.20//NONSGML v1.0//EN
CALSCALE:GREGORIAN
METHOD:PUBLISH
X-WR-CALNAME:Sun Crystals
X-ORIGINAL-URL:https://suncrystals.ca
X-WR-CALDESC:Events for Sun Crystals
REFRESH-INTERVAL;VALUE=DURATION:PT1H
X-Robots-Tag:noindex
X-PUBLISHED-TTL:PT1H
BEGIN:VTIMEZONE
TZID:UTC
BEGIN:STANDARD
TZOFFSETFROM:+0000
TZOFFSETTO:+0000
TZNAME:UTC
DTSTART:20250101T000000
END:STANDARD
END:VTIMEZONE
BEGIN:VEVENT
DTSTART;TZID=UTC:20260509T110000
DTEND;TZID=UTC:20260509T130000
DTSTAMP:20260419T180445
CREATED:20260404T004915Z
LAST-MODIFIED:20260404T004915Z
UID:10001762-1778324400-1778331600@suncrystals.ca
SUMMARY:Earth Angel Workshop
DESCRIPTION:Host: Elizabeth     Cost: $20.00 \nLearn how to recognize and trust your intuitive senses\, connect with you angelic guidance and understand the Clairs and energetic awareness. \nLearn and receive mini intuitive Angel reading . Take home PDF. \nA gentle grounded space to remember your inner knowing\, to connect with your higher self. \nLimited spots available. \n 
URL:https://suncrystals.ca/workshop-calendar/earth-angel-workshop/
LOCATION:The Lotus Room at Sun Crystals\, 26 Ainslie Street North\, Cambridge\, ON\, N1R 3J4\, Canada
ORGANIZER;CN="Embody Divine Wellness":MAILTO:elizyvonne@yahoo.ca
END:VEVENT
END:VCALENDAR