BEGIN:VCALENDAR
VERSION:2.0
PRODID:-//Sun Crystals - ECPv6.15.20//NONSGML v1.0//EN
CALSCALE:GREGORIAN
METHOD:PUBLISH
X-WR-CALNAME:Sun Crystals
X-ORIGINAL-URL:https://suncrystals.ca
X-WR-CALDESC:Events for Sun Crystals
REFRESH-INTERVAL;VALUE=DURATION:PT1H
X-Robots-Tag:noindex
X-PUBLISHED-TTL:PT1H
BEGIN:VTIMEZONE
TZID:UTC
BEGIN:STANDARD
TZOFFSETFROM:+0000
TZOFFSETTO:+0000
TZNAME:UTC
DTSTART:20270101T000000
END:STANDARD
END:VTIMEZONE
BEGIN:VEVENT
DTSTART;TZID=UTC:20281009T190000
DTEND;TZID=UTC:20281009T200000
DTSTAMP:20260419T192050
CREATED:20260403T161612Z
LAST-MODIFIED:20260403T161617Z
UID:10001630-1854730800-1854734400@suncrystals.ca
SUMMARY:Sound Bath
DESCRIPTION:Facilitator: Tracy Arbuckle              |          Cost: $35.55 \n  \nJoin me in a meditative experience where you will be bathed in resonate sounds produced by singing bowls\, gongs and chimes. The goal is to promote relaxation\, mindfulness and a deeper state of calm \n$10 off your first Sound Bath with coupon. Code SCSAVE10 \nBring a yoga mat\, blanket and pillow \n 
URL:https://suncrystals.ca/workshop-calendar/sound-bath-2-2-2/2028-10-09/
LOCATION:The Lotus Room at Sun Crystals\, 26 Ainslie Street North\, Cambridge\, ON\, N1R 3J4\, Canada
ORGANIZER;CN="Tracy Arbuckle":MAILTO:tracy112274@gmail.com
END:VEVENT
BEGIN:VEVENT
DTSTART;TZID=UTC:20281016T190000
DTEND;TZID=UTC:20281016T200000
DTSTAMP:20260419T192050
CREATED:20260403T161612Z
LAST-MODIFIED:20260403T161617Z
UID:10001631-1855335600-1855339200@suncrystals.ca
SUMMARY:Sound Bath
DESCRIPTION:Facilitator: Tracy Arbuckle              |          Cost: $35.55 \n  \nJoin me in a meditative experience where you will be bathed in resonate sounds produced by singing bowls\, gongs and chimes. The goal is to promote relaxation\, mindfulness and a deeper state of calm \n$10 off your first Sound Bath with coupon. Code SCSAVE10 \nBring a yoga mat\, blanket and pillow \n 
URL:https://suncrystals.ca/workshop-calendar/sound-bath-2-2-2/2028-10-16/
LOCATION:The Lotus Room at Sun Crystals\, 26 Ainslie Street North\, Cambridge\, ON\, N1R 3J4\, Canada
ORGANIZER;CN="Tracy Arbuckle":MAILTO:tracy112274@gmail.com
END:VEVENT
BEGIN:VEVENT
DTSTART;TZID=UTC:20281023T190000
DTEND;TZID=UTC:20281023T200000
DTSTAMP:20260419T192050
CREATED:20260403T161612Z
LAST-MODIFIED:20260403T161617Z
UID:10001632-1855940400-1855944000@suncrystals.ca
SUMMARY:Sound Bath
DESCRIPTION:Facilitator: Tracy Arbuckle              |          Cost: $35.55 \n  \nJoin me in a meditative experience where you will be bathed in resonate sounds produced by singing bowls\, gongs and chimes. The goal is to promote relaxation\, mindfulness and a deeper state of calm \n$10 off your first Sound Bath with coupon. Code SCSAVE10 \nBring a yoga mat\, blanket and pillow \n 
URL:https://suncrystals.ca/workshop-calendar/sound-bath-2-2-2/2028-10-23/
LOCATION:The Lotus Room at Sun Crystals\, 26 Ainslie Street North\, Cambridge\, ON\, N1R 3J4\, Canada
ORGANIZER;CN="Tracy Arbuckle":MAILTO:tracy112274@gmail.com
END:VEVENT
BEGIN:VEVENT
DTSTART;TZID=UTC:20281030T190000
DTEND;TZID=UTC:20281030T200000
DTSTAMP:20260419T192050
CREATED:20260403T161612Z
LAST-MODIFIED:20260403T161617Z
UID:10001633-1856545200-1856548800@suncrystals.ca
SUMMARY:Sound Bath
DESCRIPTION:Facilitator: Tracy Arbuckle              |          Cost: $35.55 \n  \nJoin me in a meditative experience where you will be bathed in resonate sounds produced by singing bowls\, gongs and chimes. The goal is to promote relaxation\, mindfulness and a deeper state of calm \n$10 off your first Sound Bath with coupon. Code SCSAVE10 \nBring a yoga mat\, blanket and pillow \n 
URL:https://suncrystals.ca/workshop-calendar/sound-bath-2-2-2/2028-10-30/
LOCATION:The Lotus Room at Sun Crystals\, 26 Ainslie Street North\, Cambridge\, ON\, N1R 3J4\, Canada
ORGANIZER;CN="Tracy Arbuckle":MAILTO:tracy112274@gmail.com
END:VEVENT
BEGIN:VEVENT
DTSTART;TZID=UTC:20281106T190000
DTEND;TZID=UTC:20281106T200000
DTSTAMP:20260419T192050
CREATED:20260403T161612Z
LAST-MODIFIED:20260403T161617Z
UID:10001634-1857150000-1857153600@suncrystals.ca
SUMMARY:Sound Bath
DESCRIPTION:Facilitator: Tracy Arbuckle              |          Cost: $35.55 \n  \nJoin me in a meditative experience where you will be bathed in resonate sounds produced by singing bowls\, gongs and chimes. The goal is to promote relaxation\, mindfulness and a deeper state of calm \n$10 off your first Sound Bath with coupon. Code SCSAVE10 \nBring a yoga mat\, blanket and pillow \n 
URL:https://suncrystals.ca/workshop-calendar/sound-bath-2-2-2/2028-11-06/
LOCATION:The Lotus Room at Sun Crystals\, 26 Ainslie Street North\, Cambridge\, ON\, N1R 3J4\, Canada
ORGANIZER;CN="Tracy Arbuckle":MAILTO:tracy112274@gmail.com
END:VEVENT
BEGIN:VEVENT
DTSTART;TZID=UTC:20281113T190000
DTEND;TZID=UTC:20281113T200000
DTSTAMP:20260419T192050
CREATED:20260403T161612Z
LAST-MODIFIED:20260403T161617Z
UID:10001635-1857754800-1857758400@suncrystals.ca
SUMMARY:Sound Bath
DESCRIPTION:Facilitator: Tracy Arbuckle              |          Cost: $35.55 \n  \nJoin me in a meditative experience where you will be bathed in resonate sounds produced by singing bowls\, gongs and chimes. The goal is to promote relaxation\, mindfulness and a deeper state of calm \n$10 off your first Sound Bath with coupon. Code SCSAVE10 \nBring a yoga mat\, blanket and pillow \n 
URL:https://suncrystals.ca/workshop-calendar/sound-bath-2-2-2/2028-11-13/
LOCATION:The Lotus Room at Sun Crystals\, 26 Ainslie Street North\, Cambridge\, ON\, N1R 3J4\, Canada
ORGANIZER;CN="Tracy Arbuckle":MAILTO:tracy112274@gmail.com
END:VEVENT
BEGIN:VEVENT
DTSTART;TZID=UTC:20281120T190000
DTEND;TZID=UTC:20281120T200000
DTSTAMP:20260419T192050
CREATED:20260403T161612Z
LAST-MODIFIED:20260403T161617Z
UID:10001636-1858359600-1858363200@suncrystals.ca
SUMMARY:Sound Bath
DESCRIPTION:Facilitator: Tracy Arbuckle              |          Cost: $35.55 \n  \nJoin me in a meditative experience where you will be bathed in resonate sounds produced by singing bowls\, gongs and chimes. The goal is to promote relaxation\, mindfulness and a deeper state of calm \n$10 off your first Sound Bath with coupon. Code SCSAVE10 \nBring a yoga mat\, blanket and pillow \n 
URL:https://suncrystals.ca/workshop-calendar/sound-bath-2-2-2/2028-11-20/
LOCATION:The Lotus Room at Sun Crystals\, 26 Ainslie Street North\, Cambridge\, ON\, N1R 3J4\, Canada
ORGANIZER;CN="Tracy Arbuckle":MAILTO:tracy112274@gmail.com
END:VEVENT
BEGIN:VEVENT
DTSTART;TZID=UTC:20281127T190000
DTEND;TZID=UTC:20281127T200000
DTSTAMP:20260419T192050
CREATED:20260403T161612Z
LAST-MODIFIED:20260403T161617Z
UID:10001637-1858964400-1858968000@suncrystals.ca
SUMMARY:Sound Bath
DESCRIPTION:Facilitator: Tracy Arbuckle              |          Cost: $35.55 \n  \nJoin me in a meditative experience where you will be bathed in resonate sounds produced by singing bowls\, gongs and chimes. The goal is to promote relaxation\, mindfulness and a deeper state of calm \n$10 off your first Sound Bath with coupon. Code SCSAVE10 \nBring a yoga mat\, blanket and pillow \n 
URL:https://suncrystals.ca/workshop-calendar/sound-bath-2-2-2/2028-11-27/
LOCATION:The Lotus Room at Sun Crystals\, 26 Ainslie Street North\, Cambridge\, ON\, N1R 3J4\, Canada
ORGANIZER;CN="Tracy Arbuckle":MAILTO:tracy112274@gmail.com
END:VEVENT
BEGIN:VEVENT
DTSTART;TZID=UTC:20281204T190000
DTEND;TZID=UTC:20281204T200000
DTSTAMP:20260419T192050
CREATED:20260403T161612Z
LAST-MODIFIED:20260403T161617Z
UID:10001638-1859569200-1859572800@suncrystals.ca
SUMMARY:Sound Bath
DESCRIPTION:Facilitator: Tracy Arbuckle              |          Cost: $35.55 \n  \nJoin me in a meditative experience where you will be bathed in resonate sounds produced by singing bowls\, gongs and chimes. The goal is to promote relaxation\, mindfulness and a deeper state of calm \n$10 off your first Sound Bath with coupon. Code SCSAVE10 \nBring a yoga mat\, blanket and pillow \n 
URL:https://suncrystals.ca/workshop-calendar/sound-bath-2-2-2/2028-12-04/
LOCATION:The Lotus Room at Sun Crystals\, 26 Ainslie Street North\, Cambridge\, ON\, N1R 3J4\, Canada
ORGANIZER;CN="Tracy Arbuckle":MAILTO:tracy112274@gmail.com
END:VEVENT
BEGIN:VEVENT
DTSTART;TZID=UTC:20281211T190000
DTEND;TZID=UTC:20281211T200000
DTSTAMP:20260419T192050
CREATED:20260403T161612Z
LAST-MODIFIED:20260403T161617Z
UID:10001639-1860174000-1860177600@suncrystals.ca
SUMMARY:Sound Bath
DESCRIPTION:Facilitator: Tracy Arbuckle              |          Cost: $35.55 \n  \nJoin me in a meditative experience where you will be bathed in resonate sounds produced by singing bowls\, gongs and chimes. The goal is to promote relaxation\, mindfulness and a deeper state of calm \n$10 off your first Sound Bath with coupon. Code SCSAVE10 \nBring a yoga mat\, blanket and pillow \n 
URL:https://suncrystals.ca/workshop-calendar/sound-bath-2-2-2/2028-12-11/
LOCATION:The Lotus Room at Sun Crystals\, 26 Ainslie Street North\, Cambridge\, ON\, N1R 3J4\, Canada
ORGANIZER;CN="Tracy Arbuckle":MAILTO:tracy112274@gmail.com
END:VEVENT
BEGIN:VEVENT
DTSTART;TZID=UTC:20281218T190000
DTEND;TZID=UTC:20281218T200000
DTSTAMP:20260419T192050
CREATED:20260403T161612Z
LAST-MODIFIED:20260403T161617Z
UID:10001640-1860778800-1860782400@suncrystals.ca
SUMMARY:Sound Bath
DESCRIPTION:Facilitator: Tracy Arbuckle              |          Cost: $35.55 \n  \nJoin me in a meditative experience where you will be bathed in resonate sounds produced by singing bowls\, gongs and chimes. The goal is to promote relaxation\, mindfulness and a deeper state of calm \n$10 off your first Sound Bath with coupon. Code SCSAVE10 \nBring a yoga mat\, blanket and pillow \n 
URL:https://suncrystals.ca/workshop-calendar/sound-bath-2-2-2/2028-12-18/
LOCATION:The Lotus Room at Sun Crystals\, 26 Ainslie Street North\, Cambridge\, ON\, N1R 3J4\, Canada
ORGANIZER;CN="Tracy Arbuckle":MAILTO:tracy112274@gmail.com
END:VEVENT
BEGIN:VEVENT
DTSTART;TZID=UTC:20281225T190000
DTEND;TZID=UTC:20281225T200000
DTSTAMP:20260419T192050
CREATED:20260403T161612Z
LAST-MODIFIED:20260403T161617Z
UID:10001641-1861383600-1861387200@suncrystals.ca
SUMMARY:Sound Bath
DESCRIPTION:Facilitator: Tracy Arbuckle              |          Cost: $35.55 \n  \nJoin me in a meditative experience where you will be bathed in resonate sounds produced by singing bowls\, gongs and chimes. The goal is to promote relaxation\, mindfulness and a deeper state of calm \n$10 off your first Sound Bath with coupon. Code SCSAVE10 \nBring a yoga mat\, blanket and pillow \n 
URL:https://suncrystals.ca/workshop-calendar/sound-bath-2-2-2/2028-12-25/
LOCATION:The Lotus Room at Sun Crystals\, 26 Ainslie Street North\, Cambridge\, ON\, N1R 3J4\, Canada
ORGANIZER;CN="Tracy Arbuckle":MAILTO:tracy112274@gmail.com
END:VEVENT
BEGIN:VEVENT
DTSTART;TZID=UTC:20290101T190000
DTEND;TZID=UTC:20290101T200000
DTSTAMP:20260419T192050
CREATED:20260403T161612Z
LAST-MODIFIED:20260403T161617Z
UID:10001642-1861988400-1861992000@suncrystals.ca
SUMMARY:Sound Bath
DESCRIPTION:Facilitator: Tracy Arbuckle              |          Cost: $35.55 \n  \nJoin me in a meditative experience where you will be bathed in resonate sounds produced by singing bowls\, gongs and chimes. The goal is to promote relaxation\, mindfulness and a deeper state of calm \n$10 off your first Sound Bath with coupon. Code SCSAVE10 \nBring a yoga mat\, blanket and pillow \n 
URL:https://suncrystals.ca/workshop-calendar/sound-bath-2-2-2/2029-01-01/
LOCATION:The Lotus Room at Sun Crystals\, 26 Ainslie Street North\, Cambridge\, ON\, N1R 3J4\, Canada
ORGANIZER;CN="Tracy Arbuckle":MAILTO:tracy112274@gmail.com
END:VEVENT
BEGIN:VEVENT
DTSTART;TZID=UTC:20290108T190000
DTEND;TZID=UTC:20290108T200000
DTSTAMP:20260419T192050
CREATED:20260403T161612Z
LAST-MODIFIED:20260403T161617Z
UID:10001643-1862593200-1862596800@suncrystals.ca
SUMMARY:Sound Bath
DESCRIPTION:Facilitator: Tracy Arbuckle              |          Cost: $35.55 \n  \nJoin me in a meditative experience where you will be bathed in resonate sounds produced by singing bowls\, gongs and chimes. The goal is to promote relaxation\, mindfulness and a deeper state of calm \n$10 off your first Sound Bath with coupon. Code SCSAVE10 \nBring a yoga mat\, blanket and pillow \n 
URL:https://suncrystals.ca/workshop-calendar/sound-bath-2-2-2/2029-01-08/
LOCATION:The Lotus Room at Sun Crystals\, 26 Ainslie Street North\, Cambridge\, ON\, N1R 3J4\, Canada
ORGANIZER;CN="Tracy Arbuckle":MAILTO:tracy112274@gmail.com
END:VEVENT
BEGIN:VEVENT
DTSTART;TZID=UTC:20290115T190000
DTEND;TZID=UTC:20290115T200000
DTSTAMP:20260419T192050
CREATED:20260403T161612Z
LAST-MODIFIED:20260403T161617Z
UID:10001644-1863198000-1863201600@suncrystals.ca
SUMMARY:Sound Bath
DESCRIPTION:Facilitator: Tracy Arbuckle              |          Cost: $35.55 \n  \nJoin me in a meditative experience where you will be bathed in resonate sounds produced by singing bowls\, gongs and chimes. The goal is to promote relaxation\, mindfulness and a deeper state of calm \n$10 off your first Sound Bath with coupon. Code SCSAVE10 \nBring a yoga mat\, blanket and pillow \n 
URL:https://suncrystals.ca/workshop-calendar/sound-bath-2-2-2/2029-01-15/
LOCATION:The Lotus Room at Sun Crystals\, 26 Ainslie Street North\, Cambridge\, ON\, N1R 3J4\, Canada
ORGANIZER;CN="Tracy Arbuckle":MAILTO:tracy112274@gmail.com
END:VEVENT
BEGIN:VEVENT
DTSTART;TZID=UTC:20290122T190000
DTEND;TZID=UTC:20290122T200000
DTSTAMP:20260419T192050
CREATED:20260403T161612Z
LAST-MODIFIED:20260403T161617Z
UID:10001645-1863802800-1863806400@suncrystals.ca
SUMMARY:Sound Bath
DESCRIPTION:Facilitator: Tracy Arbuckle              |          Cost: $35.55 \n  \nJoin me in a meditative experience where you will be bathed in resonate sounds produced by singing bowls\, gongs and chimes. The goal is to promote relaxation\, mindfulness and a deeper state of calm \n$10 off your first Sound Bath with coupon. Code SCSAVE10 \nBring a yoga mat\, blanket and pillow \n 
URL:https://suncrystals.ca/workshop-calendar/sound-bath-2-2-2/2029-01-22/
LOCATION:The Lotus Room at Sun Crystals\, 26 Ainslie Street North\, Cambridge\, ON\, N1R 3J4\, Canada
ORGANIZER;CN="Tracy Arbuckle":MAILTO:tracy112274@gmail.com
END:VEVENT
BEGIN:VEVENT
DTSTART;TZID=UTC:20290129T190000
DTEND;TZID=UTC:20290129T200000
DTSTAMP:20260419T192050
CREATED:20260403T161612Z
LAST-MODIFIED:20260403T161617Z
UID:10001646-1864407600-1864411200@suncrystals.ca
SUMMARY:Sound Bath
DESCRIPTION:Facilitator: Tracy Arbuckle              |          Cost: $35.55 \n  \nJoin me in a meditative experience where you will be bathed in resonate sounds produced by singing bowls\, gongs and chimes. The goal is to promote relaxation\, mindfulness and a deeper state of calm \n$10 off your first Sound Bath with coupon. Code SCSAVE10 \nBring a yoga mat\, blanket and pillow \n 
URL:https://suncrystals.ca/workshop-calendar/sound-bath-2-2-2/2029-01-29/
LOCATION:The Lotus Room at Sun Crystals\, 26 Ainslie Street North\, Cambridge\, ON\, N1R 3J4\, Canada
ORGANIZER;CN="Tracy Arbuckle":MAILTO:tracy112274@gmail.com
END:VEVENT
BEGIN:VEVENT
DTSTART;TZID=UTC:20290205T190000
DTEND;TZID=UTC:20290205T200000
DTSTAMP:20260419T192050
CREATED:20260403T161612Z
LAST-MODIFIED:20260403T161617Z
UID:10001647-1865012400-1865016000@suncrystals.ca
SUMMARY:Sound Bath
DESCRIPTION:Facilitator: Tracy Arbuckle              |          Cost: $35.55 \n  \nJoin me in a meditative experience where you will be bathed in resonate sounds produced by singing bowls\, gongs and chimes. The goal is to promote relaxation\, mindfulness and a deeper state of calm \n$10 off your first Sound Bath with coupon. Code SCSAVE10 \nBring a yoga mat\, blanket and pillow \n 
URL:https://suncrystals.ca/workshop-calendar/sound-bath-2-2-2/2029-02-05/
LOCATION:The Lotus Room at Sun Crystals\, 26 Ainslie Street North\, Cambridge\, ON\, N1R 3J4\, Canada
ORGANIZER;CN="Tracy Arbuckle":MAILTO:tracy112274@gmail.com
END:VEVENT
BEGIN:VEVENT
DTSTART;TZID=UTC:20290212T190000
DTEND;TZID=UTC:20290212T200000
DTSTAMP:20260419T192050
CREATED:20260403T161612Z
LAST-MODIFIED:20260403T161617Z
UID:10001648-1865617200-1865620800@suncrystals.ca
SUMMARY:Sound Bath
DESCRIPTION:Facilitator: Tracy Arbuckle              |          Cost: $35.55 \n  \nJoin me in a meditative experience where you will be bathed in resonate sounds produced by singing bowls\, gongs and chimes. The goal is to promote relaxation\, mindfulness and a deeper state of calm \n$10 off your first Sound Bath with coupon. Code SCSAVE10 \nBring a yoga mat\, blanket and pillow \n 
URL:https://suncrystals.ca/workshop-calendar/sound-bath-2-2-2/2029-02-12/
LOCATION:The Lotus Room at Sun Crystals\, 26 Ainslie Street North\, Cambridge\, ON\, N1R 3J4\, Canada
ORGANIZER;CN="Tracy Arbuckle":MAILTO:tracy112274@gmail.com
END:VEVENT
BEGIN:VEVENT
DTSTART;TZID=UTC:20290219T190000
DTEND;TZID=UTC:20290219T200000
DTSTAMP:20260419T192050
CREATED:20260403T161612Z
LAST-MODIFIED:20260403T161617Z
UID:10001649-1866222000-1866225600@suncrystals.ca
SUMMARY:Sound Bath
DESCRIPTION:Facilitator: Tracy Arbuckle              |          Cost: $35.55 \n  \nJoin me in a meditative experience where you will be bathed in resonate sounds produced by singing bowls\, gongs and chimes. The goal is to promote relaxation\, mindfulness and a deeper state of calm \n$10 off your first Sound Bath with coupon. Code SCSAVE10 \nBring a yoga mat\, blanket and pillow \n 
URL:https://suncrystals.ca/workshop-calendar/sound-bath-2-2-2/2029-02-19/
LOCATION:The Lotus Room at Sun Crystals\, 26 Ainslie Street North\, Cambridge\, ON\, N1R 3J4\, Canada
ORGANIZER;CN="Tracy Arbuckle":MAILTO:tracy112274@gmail.com
END:VEVENT
BEGIN:VEVENT
DTSTART;TZID=UTC:20290226T190000
DTEND;TZID=UTC:20290226T200000
DTSTAMP:20260419T192050
CREATED:20260403T161612Z
LAST-MODIFIED:20260403T161617Z
UID:10001650-1866826800-1866830400@suncrystals.ca
SUMMARY:Sound Bath
DESCRIPTION:Facilitator: Tracy Arbuckle              |          Cost: $35.55 \n  \nJoin me in a meditative experience where you will be bathed in resonate sounds produced by singing bowls\, gongs and chimes. The goal is to promote relaxation\, mindfulness and a deeper state of calm \n$10 off your first Sound Bath with coupon. Code SCSAVE10 \nBring a yoga mat\, blanket and pillow \n 
URL:https://suncrystals.ca/workshop-calendar/sound-bath-2-2-2/2029-02-26/
LOCATION:The Lotus Room at Sun Crystals\, 26 Ainslie Street North\, Cambridge\, ON\, N1R 3J4\, Canada
ORGANIZER;CN="Tracy Arbuckle":MAILTO:tracy112274@gmail.com
END:VEVENT
BEGIN:VEVENT
DTSTART;TZID=UTC:20290305T190000
DTEND;TZID=UTC:20290305T200000
DTSTAMP:20260419T192050
CREATED:20260403T161612Z
LAST-MODIFIED:20260403T161617Z
UID:10001651-1867431600-1867435200@suncrystals.ca
SUMMARY:Sound Bath
DESCRIPTION:Facilitator: Tracy Arbuckle              |          Cost: $35.55 \n  \nJoin me in a meditative experience where you will be bathed in resonate sounds produced by singing bowls\, gongs and chimes. The goal is to promote relaxation\, mindfulness and a deeper state of calm \n$10 off your first Sound Bath with coupon. Code SCSAVE10 \nBring a yoga mat\, blanket and pillow \n 
URL:https://suncrystals.ca/workshop-calendar/sound-bath-2-2-2/2029-03-05/
LOCATION:The Lotus Room at Sun Crystals\, 26 Ainslie Street North\, Cambridge\, ON\, N1R 3J4\, Canada
ORGANIZER;CN="Tracy Arbuckle":MAILTO:tracy112274@gmail.com
END:VEVENT
BEGIN:VEVENT
DTSTART;TZID=UTC:20290312T190000
DTEND;TZID=UTC:20290312T200000
DTSTAMP:20260419T192050
CREATED:20260403T161612Z
LAST-MODIFIED:20260403T161617Z
UID:10001652-1868036400-1868040000@suncrystals.ca
SUMMARY:Sound Bath
DESCRIPTION:Facilitator: Tracy Arbuckle              |          Cost: $35.55 \n  \nJoin me in a meditative experience where you will be bathed in resonate sounds produced by singing bowls\, gongs and chimes. The goal is to promote relaxation\, mindfulness and a deeper state of calm \n$10 off your first Sound Bath with coupon. Code SCSAVE10 \nBring a yoga mat\, blanket and pillow \n 
URL:https://suncrystals.ca/workshop-calendar/sound-bath-2-2-2/2029-03-12/
LOCATION:The Lotus Room at Sun Crystals\, 26 Ainslie Street North\, Cambridge\, ON\, N1R 3J4\, Canada
ORGANIZER;CN="Tracy Arbuckle":MAILTO:tracy112274@gmail.com
END:VEVENT
BEGIN:VEVENT
DTSTART;TZID=UTC:20290319T190000
DTEND;TZID=UTC:20290319T200000
DTSTAMP:20260419T192050
CREATED:20260403T161612Z
LAST-MODIFIED:20260403T161617Z
UID:10001653-1868641200-1868644800@suncrystals.ca
SUMMARY:Sound Bath
DESCRIPTION:Facilitator: Tracy Arbuckle              |          Cost: $35.55 \n  \nJoin me in a meditative experience where you will be bathed in resonate sounds produced by singing bowls\, gongs and chimes. The goal is to promote relaxation\, mindfulness and a deeper state of calm \n$10 off your first Sound Bath with coupon. Code SCSAVE10 \nBring a yoga mat\, blanket and pillow \n 
URL:https://suncrystals.ca/workshop-calendar/sound-bath-2-2-2/2029-03-19/
LOCATION:The Lotus Room at Sun Crystals\, 26 Ainslie Street North\, Cambridge\, ON\, N1R 3J4\, Canada
ORGANIZER;CN="Tracy Arbuckle":MAILTO:tracy112274@gmail.com
END:VEVENT
BEGIN:VEVENT
DTSTART;TZID=UTC:20290326T190000
DTEND;TZID=UTC:20290326T200000
DTSTAMP:20260419T192050
CREATED:20260403T161612Z
LAST-MODIFIED:20260403T161617Z
UID:10001654-1869246000-1869249600@suncrystals.ca
SUMMARY:Sound Bath
DESCRIPTION:Facilitator: Tracy Arbuckle              |          Cost: $35.55 \n  \nJoin me in a meditative experience where you will be bathed in resonate sounds produced by singing bowls\, gongs and chimes. The goal is to promote relaxation\, mindfulness and a deeper state of calm \n$10 off your first Sound Bath with coupon. Code SCSAVE10 \nBring a yoga mat\, blanket and pillow \n 
URL:https://suncrystals.ca/workshop-calendar/sound-bath-2-2-2/2029-03-26/
LOCATION:The Lotus Room at Sun Crystals\, 26 Ainslie Street North\, Cambridge\, ON\, N1R 3J4\, Canada
ORGANIZER;CN="Tracy Arbuckle":MAILTO:tracy112274@gmail.com
END:VEVENT
BEGIN:VEVENT
DTSTART;TZID=UTC:20290402T190000
DTEND;TZID=UTC:20290402T200000
DTSTAMP:20260419T192050
CREATED:20260403T161612Z
LAST-MODIFIED:20260403T161617Z
UID:10001655-1869850800-1869854400@suncrystals.ca
SUMMARY:Sound Bath
DESCRIPTION:Facilitator: Tracy Arbuckle              |          Cost: $35.55 \n  \nJoin me in a meditative experience where you will be bathed in resonate sounds produced by singing bowls\, gongs and chimes. The goal is to promote relaxation\, mindfulness and a deeper state of calm \n$10 off your first Sound Bath with coupon. Code SCSAVE10 \nBring a yoga mat\, blanket and pillow \n 
URL:https://suncrystals.ca/workshop-calendar/sound-bath-2-2-2/2029-04-02/
LOCATION:The Lotus Room at Sun Crystals\, 26 Ainslie Street North\, Cambridge\, ON\, N1R 3J4\, Canada
ORGANIZER;CN="Tracy Arbuckle":MAILTO:tracy112274@gmail.com
END:VEVENT
BEGIN:VEVENT
DTSTART;TZID=UTC:20290409T190000
DTEND;TZID=UTC:20290409T200000
DTSTAMP:20260419T192050
CREATED:20260403T161612Z
LAST-MODIFIED:20260403T161617Z
UID:10001656-1870455600-1870459200@suncrystals.ca
SUMMARY:Sound Bath
DESCRIPTION:Facilitator: Tracy Arbuckle              |          Cost: $35.55 \n  \nJoin me in a meditative experience where you will be bathed in resonate sounds produced by singing bowls\, gongs and chimes. The goal is to promote relaxation\, mindfulness and a deeper state of calm \n$10 off your first Sound Bath with coupon. Code SCSAVE10 \nBring a yoga mat\, blanket and pillow \n 
URL:https://suncrystals.ca/workshop-calendar/sound-bath-2-2-2/2029-04-09/
LOCATION:The Lotus Room at Sun Crystals\, 26 Ainslie Street North\, Cambridge\, ON\, N1R 3J4\, Canada
ORGANIZER;CN="Tracy Arbuckle":MAILTO:tracy112274@gmail.com
END:VEVENT
BEGIN:VEVENT
DTSTART;TZID=UTC:20290416T190000
DTEND;TZID=UTC:20290416T200000
DTSTAMP:20260419T192050
CREATED:20260403T161612Z
LAST-MODIFIED:20260403T161617Z
UID:10001657-1871060400-1871064000@suncrystals.ca
SUMMARY:Sound Bath
DESCRIPTION:Facilitator: Tracy Arbuckle              |          Cost: $35.55 \n  \nJoin me in a meditative experience where you will be bathed in resonate sounds produced by singing bowls\, gongs and chimes. The goal is to promote relaxation\, mindfulness and a deeper state of calm \n$10 off your first Sound Bath with coupon. Code SCSAVE10 \nBring a yoga mat\, blanket and pillow \n 
URL:https://suncrystals.ca/workshop-calendar/sound-bath-2-2-2/2029-04-16/
LOCATION:The Lotus Room at Sun Crystals\, 26 Ainslie Street North\, Cambridge\, ON\, N1R 3J4\, Canada
ORGANIZER;CN="Tracy Arbuckle":MAILTO:tracy112274@gmail.com
END:VEVENT
BEGIN:VEVENT
DTSTART;TZID=UTC:20290423T190000
DTEND;TZID=UTC:20290423T200000
DTSTAMP:20260419T192050
CREATED:20260403T161612Z
LAST-MODIFIED:20260403T161617Z
UID:10001658-1871665200-1871668800@suncrystals.ca
SUMMARY:Sound Bath
DESCRIPTION:Facilitator: Tracy Arbuckle              |          Cost: $35.55 \n  \nJoin me in a meditative experience where you will be bathed in resonate sounds produced by singing bowls\, gongs and chimes. The goal is to promote relaxation\, mindfulness and a deeper state of calm \n$10 off your first Sound Bath with coupon. Code SCSAVE10 \nBring a yoga mat\, blanket and pillow \n 
URL:https://suncrystals.ca/workshop-calendar/sound-bath-2-2-2/2029-04-23/
LOCATION:The Lotus Room at Sun Crystals\, 26 Ainslie Street North\, Cambridge\, ON\, N1R 3J4\, Canada
ORGANIZER;CN="Tracy Arbuckle":MAILTO:tracy112274@gmail.com
END:VEVENT
BEGIN:VEVENT
DTSTART;TZID=UTC:20290430T190000
DTEND;TZID=UTC:20290430T200000
DTSTAMP:20260419T192050
CREATED:20260403T161612Z
LAST-MODIFIED:20260403T161617Z
UID:10001659-1872270000-1872273600@suncrystals.ca
SUMMARY:Sound Bath
DESCRIPTION:Facilitator: Tracy Arbuckle              |          Cost: $35.55 \n  \nJoin me in a meditative experience where you will be bathed in resonate sounds produced by singing bowls\, gongs and chimes. The goal is to promote relaxation\, mindfulness and a deeper state of calm \n$10 off your first Sound Bath with coupon. Code SCSAVE10 \nBring a yoga mat\, blanket and pillow \n 
URL:https://suncrystals.ca/workshop-calendar/sound-bath-2-2-2/2029-04-30/
LOCATION:The Lotus Room at Sun Crystals\, 26 Ainslie Street North\, Cambridge\, ON\, N1R 3J4\, Canada
ORGANIZER;CN="Tracy Arbuckle":MAILTO:tracy112274@gmail.com
END:VEVENT
END:VCALENDAR