BEGIN:VCALENDAR
VERSION:2.0
PRODID:-//Sun Crystals - ECPv6.15.20//NONSGML v1.0//EN
CALSCALE:GREGORIAN
METHOD:PUBLISH
X-WR-CALNAME:Sun Crystals
X-ORIGINAL-URL:https://suncrystals.ca
X-WR-CALDESC:Events for Sun Crystals
REFRESH-INTERVAL;VALUE=DURATION:PT1H
X-Robots-Tag:noindex
X-PUBLISHED-TTL:PT1H
BEGIN:VTIMEZONE
TZID:UTC
BEGIN:STANDARD
TZOFFSETFROM:+0000
TZOFFSETTO:+0000
TZNAME:UTC
DTSTART:20280101T000000
END:STANDARD
END:VTIMEZONE
BEGIN:VEVENT
DTSTART;TZID=UTC:20290910T190000
DTEND;TZID=UTC:20290910T200000
DTSTAMP:20260420T013320
CREATED:20260403T161612Z
LAST-MODIFIED:20260403T161617Z
UID:10001678-1883761200-1883764800@suncrystals.ca
SUMMARY:Sound Bath
DESCRIPTION:Facilitator: Tracy Arbuckle              |          Cost: $35.55 \n  \nJoin me in a meditative experience where you will be bathed in resonate sounds produced by singing bowls\, gongs and chimes. The goal is to promote relaxation\, mindfulness and a deeper state of calm \n$10 off your first Sound Bath with coupon. Code SCSAVE10 \nBring a yoga mat\, blanket and pillow \n 
URL:https://suncrystals.ca/workshop-calendar/sound-bath-2-2-2/2029-09-10/
LOCATION:The Lotus Room at Sun Crystals\, 26 Ainslie Street North\, Cambridge\, ON\, N1R 3J4\, Canada
ORGANIZER;CN="Tracy Arbuckle":MAILTO:tracy112274@gmail.com
END:VEVENT
BEGIN:VEVENT
DTSTART;TZID=UTC:20290917T190000
DTEND;TZID=UTC:20290917T200000
DTSTAMP:20260420T013320
CREATED:20260403T161612Z
LAST-MODIFIED:20260403T161617Z
UID:10001679-1884366000-1884369600@suncrystals.ca
SUMMARY:Sound Bath
DESCRIPTION:Facilitator: Tracy Arbuckle              |          Cost: $35.55 \n  \nJoin me in a meditative experience where you will be bathed in resonate sounds produced by singing bowls\, gongs and chimes. The goal is to promote relaxation\, mindfulness and a deeper state of calm \n$10 off your first Sound Bath with coupon. Code SCSAVE10 \nBring a yoga mat\, blanket and pillow \n 
URL:https://suncrystals.ca/workshop-calendar/sound-bath-2-2-2/2029-09-17/
LOCATION:The Lotus Room at Sun Crystals\, 26 Ainslie Street North\, Cambridge\, ON\, N1R 3J4\, Canada
ORGANIZER;CN="Tracy Arbuckle":MAILTO:tracy112274@gmail.com
END:VEVENT
BEGIN:VEVENT
DTSTART;TZID=UTC:20290924T190000
DTEND;TZID=UTC:20290924T200000
DTSTAMP:20260420T013320
CREATED:20260403T161612Z
LAST-MODIFIED:20260403T161617Z
UID:10001680-1884970800-1884974400@suncrystals.ca
SUMMARY:Sound Bath
DESCRIPTION:Facilitator: Tracy Arbuckle              |          Cost: $35.55 \n  \nJoin me in a meditative experience where you will be bathed in resonate sounds produced by singing bowls\, gongs and chimes. The goal is to promote relaxation\, mindfulness and a deeper state of calm \n$10 off your first Sound Bath with coupon. Code SCSAVE10 \nBring a yoga mat\, blanket and pillow \n 
URL:https://suncrystals.ca/workshop-calendar/sound-bath-2-2-2/2029-09-24/
LOCATION:The Lotus Room at Sun Crystals\, 26 Ainslie Street North\, Cambridge\, ON\, N1R 3J4\, Canada
ORGANIZER;CN="Tracy Arbuckle":MAILTO:tracy112274@gmail.com
END:VEVENT
BEGIN:VEVENT
DTSTART;TZID=UTC:20291001T190000
DTEND;TZID=UTC:20291001T200000
DTSTAMP:20260420T013320
CREATED:20260403T161612Z
LAST-MODIFIED:20260403T161617Z
UID:10001681-1885575600-1885579200@suncrystals.ca
SUMMARY:Sound Bath
DESCRIPTION:Facilitator: Tracy Arbuckle              |          Cost: $35.55 \n  \nJoin me in a meditative experience where you will be bathed in resonate sounds produced by singing bowls\, gongs and chimes. The goal is to promote relaxation\, mindfulness and a deeper state of calm \n$10 off your first Sound Bath with coupon. Code SCSAVE10 \nBring a yoga mat\, blanket and pillow \n 
URL:https://suncrystals.ca/workshop-calendar/sound-bath-2-2-2/2029-10-01/
LOCATION:The Lotus Room at Sun Crystals\, 26 Ainslie Street North\, Cambridge\, ON\, N1R 3J4\, Canada
ORGANIZER;CN="Tracy Arbuckle":MAILTO:tracy112274@gmail.com
END:VEVENT
BEGIN:VEVENT
DTSTART;TZID=UTC:20291008T190000
DTEND;TZID=UTC:20291008T200000
DTSTAMP:20260420T013320
CREATED:20260403T161612Z
LAST-MODIFIED:20260403T161617Z
UID:10001682-1886180400-1886184000@suncrystals.ca
SUMMARY:Sound Bath
DESCRIPTION:Facilitator: Tracy Arbuckle              |          Cost: $35.55 \n  \nJoin me in a meditative experience where you will be bathed in resonate sounds produced by singing bowls\, gongs and chimes. The goal is to promote relaxation\, mindfulness and a deeper state of calm \n$10 off your first Sound Bath with coupon. Code SCSAVE10 \nBring a yoga mat\, blanket and pillow \n 
URL:https://suncrystals.ca/workshop-calendar/sound-bath-2-2-2/2029-10-08/
LOCATION:The Lotus Room at Sun Crystals\, 26 Ainslie Street North\, Cambridge\, ON\, N1R 3J4\, Canada
ORGANIZER;CN="Tracy Arbuckle":MAILTO:tracy112274@gmail.com
END:VEVENT
BEGIN:VEVENT
DTSTART;TZID=UTC:20291015T190000
DTEND;TZID=UTC:20291015T200000
DTSTAMP:20260420T013320
CREATED:20260403T161612Z
LAST-MODIFIED:20260403T161617Z
UID:10001683-1886785200-1886788800@suncrystals.ca
SUMMARY:Sound Bath
DESCRIPTION:Facilitator: Tracy Arbuckle              |          Cost: $35.55 \n  \nJoin me in a meditative experience where you will be bathed in resonate sounds produced by singing bowls\, gongs and chimes. The goal is to promote relaxation\, mindfulness and a deeper state of calm \n$10 off your first Sound Bath with coupon. Code SCSAVE10 \nBring a yoga mat\, blanket and pillow \n 
URL:https://suncrystals.ca/workshop-calendar/sound-bath-2-2-2/2029-10-15/
LOCATION:The Lotus Room at Sun Crystals\, 26 Ainslie Street North\, Cambridge\, ON\, N1R 3J4\, Canada
ORGANIZER;CN="Tracy Arbuckle":MAILTO:tracy112274@gmail.com
END:VEVENT
BEGIN:VEVENT
DTSTART;TZID=UTC:20291022T190000
DTEND;TZID=UTC:20291022T200000
DTSTAMP:20260420T013320
CREATED:20260403T161612Z
LAST-MODIFIED:20260403T161617Z
UID:10001684-1887390000-1887393600@suncrystals.ca
SUMMARY:Sound Bath
DESCRIPTION:Facilitator: Tracy Arbuckle              |          Cost: $35.55 \n  \nJoin me in a meditative experience where you will be bathed in resonate sounds produced by singing bowls\, gongs and chimes. The goal is to promote relaxation\, mindfulness and a deeper state of calm \n$10 off your first Sound Bath with coupon. Code SCSAVE10 \nBring a yoga mat\, blanket and pillow \n 
URL:https://suncrystals.ca/workshop-calendar/sound-bath-2-2-2/2029-10-22/
LOCATION:The Lotus Room at Sun Crystals\, 26 Ainslie Street North\, Cambridge\, ON\, N1R 3J4\, Canada
ORGANIZER;CN="Tracy Arbuckle":MAILTO:tracy112274@gmail.com
END:VEVENT
BEGIN:VEVENT
DTSTART;TZID=UTC:20291029T190000
DTEND;TZID=UTC:20291029T200000
DTSTAMP:20260420T013320
CREATED:20260403T161612Z
LAST-MODIFIED:20260403T161617Z
UID:10001685-1887994800-1887998400@suncrystals.ca
SUMMARY:Sound Bath
DESCRIPTION:Facilitator: Tracy Arbuckle              |          Cost: $35.55 \n  \nJoin me in a meditative experience where you will be bathed in resonate sounds produced by singing bowls\, gongs and chimes. The goal is to promote relaxation\, mindfulness and a deeper state of calm \n$10 off your first Sound Bath with coupon. Code SCSAVE10 \nBring a yoga mat\, blanket and pillow \n 
URL:https://suncrystals.ca/workshop-calendar/sound-bath-2-2-2/2029-10-29/
LOCATION:The Lotus Room at Sun Crystals\, 26 Ainslie Street North\, Cambridge\, ON\, N1R 3J4\, Canada
ORGANIZER;CN="Tracy Arbuckle":MAILTO:tracy112274@gmail.com
END:VEVENT
BEGIN:VEVENT
DTSTART;TZID=UTC:20291105T190000
DTEND;TZID=UTC:20291105T200000
DTSTAMP:20260420T013320
CREATED:20260403T161612Z
LAST-MODIFIED:20260403T161617Z
UID:10001686-1888599600-1888603200@suncrystals.ca
SUMMARY:Sound Bath
DESCRIPTION:Facilitator: Tracy Arbuckle              |          Cost: $35.55 \n  \nJoin me in a meditative experience where you will be bathed in resonate sounds produced by singing bowls\, gongs and chimes. The goal is to promote relaxation\, mindfulness and a deeper state of calm \n$10 off your first Sound Bath with coupon. Code SCSAVE10 \nBring a yoga mat\, blanket and pillow \n 
URL:https://suncrystals.ca/workshop-calendar/sound-bath-2-2-2/2029-11-05/
LOCATION:The Lotus Room at Sun Crystals\, 26 Ainslie Street North\, Cambridge\, ON\, N1R 3J4\, Canada
ORGANIZER;CN="Tracy Arbuckle":MAILTO:tracy112274@gmail.com
END:VEVENT
BEGIN:VEVENT
DTSTART;TZID=UTC:20291112T190000
DTEND;TZID=UTC:20291112T200000
DTSTAMP:20260420T013320
CREATED:20260403T161612Z
LAST-MODIFIED:20260403T161617Z
UID:10001687-1889204400-1889208000@suncrystals.ca
SUMMARY:Sound Bath
DESCRIPTION:Facilitator: Tracy Arbuckle              |          Cost: $35.55 \n  \nJoin me in a meditative experience where you will be bathed in resonate sounds produced by singing bowls\, gongs and chimes. The goal is to promote relaxation\, mindfulness and a deeper state of calm \n$10 off your first Sound Bath with coupon. Code SCSAVE10 \nBring a yoga mat\, blanket and pillow \n 
URL:https://suncrystals.ca/workshop-calendar/sound-bath-2-2-2/2029-11-12/
LOCATION:The Lotus Room at Sun Crystals\, 26 Ainslie Street North\, Cambridge\, ON\, N1R 3J4\, Canada
ORGANIZER;CN="Tracy Arbuckle":MAILTO:tracy112274@gmail.com
END:VEVENT
BEGIN:VEVENT
DTSTART;TZID=UTC:20291119T190000
DTEND;TZID=UTC:20291119T200000
DTSTAMP:20260420T013320
CREATED:20260403T161612Z
LAST-MODIFIED:20260403T161617Z
UID:10001688-1889809200-1889812800@suncrystals.ca
SUMMARY:Sound Bath
DESCRIPTION:Facilitator: Tracy Arbuckle              |          Cost: $35.55 \n  \nJoin me in a meditative experience where you will be bathed in resonate sounds produced by singing bowls\, gongs and chimes. The goal is to promote relaxation\, mindfulness and a deeper state of calm \n$10 off your first Sound Bath with coupon. Code SCSAVE10 \nBring a yoga mat\, blanket and pillow \n 
URL:https://suncrystals.ca/workshop-calendar/sound-bath-2-2-2/2029-11-19/
LOCATION:The Lotus Room at Sun Crystals\, 26 Ainslie Street North\, Cambridge\, ON\, N1R 3J4\, Canada
ORGANIZER;CN="Tracy Arbuckle":MAILTO:tracy112274@gmail.com
END:VEVENT
BEGIN:VEVENT
DTSTART;TZID=UTC:20291126T190000
DTEND;TZID=UTC:20291126T200000
DTSTAMP:20260420T013320
CREATED:20260403T161612Z
LAST-MODIFIED:20260403T161617Z
UID:10001689-1890414000-1890417600@suncrystals.ca
SUMMARY:Sound Bath
DESCRIPTION:Facilitator: Tracy Arbuckle              |          Cost: $35.55 \n  \nJoin me in a meditative experience where you will be bathed in resonate sounds produced by singing bowls\, gongs and chimes. The goal is to promote relaxation\, mindfulness and a deeper state of calm \n$10 off your first Sound Bath with coupon. Code SCSAVE10 \nBring a yoga mat\, blanket and pillow \n 
URL:https://suncrystals.ca/workshop-calendar/sound-bath-2-2-2/2029-11-26/
LOCATION:The Lotus Room at Sun Crystals\, 26 Ainslie Street North\, Cambridge\, ON\, N1R 3J4\, Canada
ORGANIZER;CN="Tracy Arbuckle":MAILTO:tracy112274@gmail.com
END:VEVENT
BEGIN:VEVENT
DTSTART;TZID=UTC:20291203T190000
DTEND;TZID=UTC:20291203T200000
DTSTAMP:20260420T013320
CREATED:20260403T161612Z
LAST-MODIFIED:20260403T161617Z
UID:10001690-1891018800-1891022400@suncrystals.ca
SUMMARY:Sound Bath
DESCRIPTION:Facilitator: Tracy Arbuckle              |          Cost: $35.55 \n  \nJoin me in a meditative experience where you will be bathed in resonate sounds produced by singing bowls\, gongs and chimes. The goal is to promote relaxation\, mindfulness and a deeper state of calm \n$10 off your first Sound Bath with coupon. Code SCSAVE10 \nBring a yoga mat\, blanket and pillow \n 
URL:https://suncrystals.ca/workshop-calendar/sound-bath-2-2-2/2029-12-03/
LOCATION:The Lotus Room at Sun Crystals\, 26 Ainslie Street North\, Cambridge\, ON\, N1R 3J4\, Canada
ORGANIZER;CN="Tracy Arbuckle":MAILTO:tracy112274@gmail.com
END:VEVENT
BEGIN:VEVENT
DTSTART;TZID=UTC:20291210T190000
DTEND;TZID=UTC:20291210T200000
DTSTAMP:20260420T013320
CREATED:20260403T161612Z
LAST-MODIFIED:20260403T161617Z
UID:10001691-1891623600-1891627200@suncrystals.ca
SUMMARY:Sound Bath
DESCRIPTION:Facilitator: Tracy Arbuckle              |          Cost: $35.55 \n  \nJoin me in a meditative experience where you will be bathed in resonate sounds produced by singing bowls\, gongs and chimes. The goal is to promote relaxation\, mindfulness and a deeper state of calm \n$10 off your first Sound Bath with coupon. Code SCSAVE10 \nBring a yoga mat\, blanket and pillow \n 
URL:https://suncrystals.ca/workshop-calendar/sound-bath-2-2-2/2029-12-10/
LOCATION:The Lotus Room at Sun Crystals\, 26 Ainslie Street North\, Cambridge\, ON\, N1R 3J4\, Canada
ORGANIZER;CN="Tracy Arbuckle":MAILTO:tracy112274@gmail.com
END:VEVENT
BEGIN:VEVENT
DTSTART;TZID=UTC:20291217T190000
DTEND;TZID=UTC:20291217T200000
DTSTAMP:20260420T013320
CREATED:20260403T161612Z
LAST-MODIFIED:20260403T161617Z
UID:10001692-1892228400-1892232000@suncrystals.ca
SUMMARY:Sound Bath
DESCRIPTION:Facilitator: Tracy Arbuckle              |          Cost: $35.55 \n  \nJoin me in a meditative experience where you will be bathed in resonate sounds produced by singing bowls\, gongs and chimes. The goal is to promote relaxation\, mindfulness and a deeper state of calm \n$10 off your first Sound Bath with coupon. Code SCSAVE10 \nBring a yoga mat\, blanket and pillow \n 
URL:https://suncrystals.ca/workshop-calendar/sound-bath-2-2-2/2029-12-17/
LOCATION:The Lotus Room at Sun Crystals\, 26 Ainslie Street North\, Cambridge\, ON\, N1R 3J4\, Canada
ORGANIZER;CN="Tracy Arbuckle":MAILTO:tracy112274@gmail.com
END:VEVENT
BEGIN:VEVENT
DTSTART;TZID=UTC:20291224T190000
DTEND;TZID=UTC:20291224T200000
DTSTAMP:20260420T013320
CREATED:20260403T161612Z
LAST-MODIFIED:20260403T161617Z
UID:10001693-1892833200-1892836800@suncrystals.ca
SUMMARY:Sound Bath
DESCRIPTION:Facilitator: Tracy Arbuckle              |          Cost: $35.55 \n  \nJoin me in a meditative experience where you will be bathed in resonate sounds produced by singing bowls\, gongs and chimes. The goal is to promote relaxation\, mindfulness and a deeper state of calm \n$10 off your first Sound Bath with coupon. Code SCSAVE10 \nBring a yoga mat\, blanket and pillow \n 
URL:https://suncrystals.ca/workshop-calendar/sound-bath-2-2-2/2029-12-24/
LOCATION:The Lotus Room at Sun Crystals\, 26 Ainslie Street North\, Cambridge\, ON\, N1R 3J4\, Canada
ORGANIZER;CN="Tracy Arbuckle":MAILTO:tracy112274@gmail.com
END:VEVENT
BEGIN:VEVENT
DTSTART;TZID=UTC:20291231T190000
DTEND;TZID=UTC:20291231T200000
DTSTAMP:20260420T013320
CREATED:20260403T161612Z
LAST-MODIFIED:20260403T161617Z
UID:10001694-1893438000-1893441600@suncrystals.ca
SUMMARY:Sound Bath
DESCRIPTION:Facilitator: Tracy Arbuckle              |          Cost: $35.55 \n  \nJoin me in a meditative experience where you will be bathed in resonate sounds produced by singing bowls\, gongs and chimes. The goal is to promote relaxation\, mindfulness and a deeper state of calm \n$10 off your first Sound Bath with coupon. Code SCSAVE10 \nBring a yoga mat\, blanket and pillow \n 
URL:https://suncrystals.ca/workshop-calendar/sound-bath-2-2-2/2029-12-31/
LOCATION:The Lotus Room at Sun Crystals\, 26 Ainslie Street North\, Cambridge\, ON\, N1R 3J4\, Canada
ORGANIZER;CN="Tracy Arbuckle":MAILTO:tracy112274@gmail.com
END:VEVENT
BEGIN:VEVENT
DTSTART;TZID=UTC:20300107T190000
DTEND;TZID=UTC:20300107T200000
DTSTAMP:20260420T013320
CREATED:20260403T161612Z
LAST-MODIFIED:20260403T161617Z
UID:10001695-1894042800-1894046400@suncrystals.ca
SUMMARY:Sound Bath
DESCRIPTION:Facilitator: Tracy Arbuckle              |          Cost: $35.55 \n  \nJoin me in a meditative experience where you will be bathed in resonate sounds produced by singing bowls\, gongs and chimes. The goal is to promote relaxation\, mindfulness and a deeper state of calm \n$10 off your first Sound Bath with coupon. Code SCSAVE10 \nBring a yoga mat\, blanket and pillow \n 
URL:https://suncrystals.ca/workshop-calendar/sound-bath-2-2-2/2030-01-07/
LOCATION:The Lotus Room at Sun Crystals\, 26 Ainslie Street North\, Cambridge\, ON\, N1R 3J4\, Canada
ORGANIZER;CN="Tracy Arbuckle":MAILTO:tracy112274@gmail.com
END:VEVENT
BEGIN:VEVENT
DTSTART;TZID=UTC:20300114T190000
DTEND;TZID=UTC:20300114T200000
DTSTAMP:20260420T013320
CREATED:20260403T161612Z
LAST-MODIFIED:20260403T161617Z
UID:10001696-1894647600-1894651200@suncrystals.ca
SUMMARY:Sound Bath
DESCRIPTION:Facilitator: Tracy Arbuckle              |          Cost: $35.55 \n  \nJoin me in a meditative experience where you will be bathed in resonate sounds produced by singing bowls\, gongs and chimes. The goal is to promote relaxation\, mindfulness and a deeper state of calm \n$10 off your first Sound Bath with coupon. Code SCSAVE10 \nBring a yoga mat\, blanket and pillow \n 
URL:https://suncrystals.ca/workshop-calendar/sound-bath-2-2-2/2030-01-14/
LOCATION:The Lotus Room at Sun Crystals\, 26 Ainslie Street North\, Cambridge\, ON\, N1R 3J4\, Canada
ORGANIZER;CN="Tracy Arbuckle":MAILTO:tracy112274@gmail.com
END:VEVENT
BEGIN:VEVENT
DTSTART;TZID=UTC:20300121T190000
DTEND;TZID=UTC:20300121T200000
DTSTAMP:20260420T013320
CREATED:20260403T161612Z
LAST-MODIFIED:20260403T161617Z
UID:10001697-1895252400-1895256000@suncrystals.ca
SUMMARY:Sound Bath
DESCRIPTION:Facilitator: Tracy Arbuckle              |          Cost: $35.55 \n  \nJoin me in a meditative experience where you will be bathed in resonate sounds produced by singing bowls\, gongs and chimes. The goal is to promote relaxation\, mindfulness and a deeper state of calm \n$10 off your first Sound Bath with coupon. Code SCSAVE10 \nBring a yoga mat\, blanket and pillow \n 
URL:https://suncrystals.ca/workshop-calendar/sound-bath-2-2-2/2030-01-21/
LOCATION:The Lotus Room at Sun Crystals\, 26 Ainslie Street North\, Cambridge\, ON\, N1R 3J4\, Canada
ORGANIZER;CN="Tracy Arbuckle":MAILTO:tracy112274@gmail.com
END:VEVENT
BEGIN:VEVENT
DTSTART;TZID=UTC:20300128T190000
DTEND;TZID=UTC:20300128T200000
DTSTAMP:20260420T013320
CREATED:20260403T161612Z
LAST-MODIFIED:20260403T161617Z
UID:10001698-1895857200-1895860800@suncrystals.ca
SUMMARY:Sound Bath
DESCRIPTION:Facilitator: Tracy Arbuckle              |          Cost: $35.55 \n  \nJoin me in a meditative experience where you will be bathed in resonate sounds produced by singing bowls\, gongs and chimes. The goal is to promote relaxation\, mindfulness and a deeper state of calm \n$10 off your first Sound Bath with coupon. Code SCSAVE10 \nBring a yoga mat\, blanket and pillow \n 
URL:https://suncrystals.ca/workshop-calendar/sound-bath-2-2-2/2030-01-28/
LOCATION:The Lotus Room at Sun Crystals\, 26 Ainslie Street North\, Cambridge\, ON\, N1R 3J4\, Canada
ORGANIZER;CN="Tracy Arbuckle":MAILTO:tracy112274@gmail.com
END:VEVENT
BEGIN:VEVENT
DTSTART;TZID=UTC:20300204T190000
DTEND;TZID=UTC:20300204T200000
DTSTAMP:20260420T013320
CREATED:20260403T161612Z
LAST-MODIFIED:20260403T161617Z
UID:10001699-1896462000-1896465600@suncrystals.ca
SUMMARY:Sound Bath
DESCRIPTION:Facilitator: Tracy Arbuckle              |          Cost: $35.55 \n  \nJoin me in a meditative experience where you will be bathed in resonate sounds produced by singing bowls\, gongs and chimes. The goal is to promote relaxation\, mindfulness and a deeper state of calm \n$10 off your first Sound Bath with coupon. Code SCSAVE10 \nBring a yoga mat\, blanket and pillow \n 
URL:https://suncrystals.ca/workshop-calendar/sound-bath-2-2-2/2030-02-04/
LOCATION:The Lotus Room at Sun Crystals\, 26 Ainslie Street North\, Cambridge\, ON\, N1R 3J4\, Canada
ORGANIZER;CN="Tracy Arbuckle":MAILTO:tracy112274@gmail.com
END:VEVENT
BEGIN:VEVENT
DTSTART;TZID=UTC:20300211T190000
DTEND;TZID=UTC:20300211T200000
DTSTAMP:20260420T013320
CREATED:20260403T161612Z
LAST-MODIFIED:20260403T161617Z
UID:10001700-1897066800-1897070400@suncrystals.ca
SUMMARY:Sound Bath
DESCRIPTION:Facilitator: Tracy Arbuckle              |          Cost: $35.55 \n  \nJoin me in a meditative experience where you will be bathed in resonate sounds produced by singing bowls\, gongs and chimes. The goal is to promote relaxation\, mindfulness and a deeper state of calm \n$10 off your first Sound Bath with coupon. Code SCSAVE10 \nBring a yoga mat\, blanket and pillow \n 
URL:https://suncrystals.ca/workshop-calendar/sound-bath-2-2-2/2030-02-11/
LOCATION:The Lotus Room at Sun Crystals\, 26 Ainslie Street North\, Cambridge\, ON\, N1R 3J4\, Canada
ORGANIZER;CN="Tracy Arbuckle":MAILTO:tracy112274@gmail.com
END:VEVENT
BEGIN:VEVENT
DTSTART;TZID=UTC:20300218T190000
DTEND;TZID=UTC:20300218T200000
DTSTAMP:20260420T013320
CREATED:20260403T161612Z
LAST-MODIFIED:20260403T161617Z
UID:10001701-1897671600-1897675200@suncrystals.ca
SUMMARY:Sound Bath
DESCRIPTION:Facilitator: Tracy Arbuckle              |          Cost: $35.55 \n  \nJoin me in a meditative experience where you will be bathed in resonate sounds produced by singing bowls\, gongs and chimes. The goal is to promote relaxation\, mindfulness and a deeper state of calm \n$10 off your first Sound Bath with coupon. Code SCSAVE10 \nBring a yoga mat\, blanket and pillow \n 
URL:https://suncrystals.ca/workshop-calendar/sound-bath-2-2-2/2030-02-18/
LOCATION:The Lotus Room at Sun Crystals\, 26 Ainslie Street North\, Cambridge\, ON\, N1R 3J4\, Canada
ORGANIZER;CN="Tracy Arbuckle":MAILTO:tracy112274@gmail.com
END:VEVENT
BEGIN:VEVENT
DTSTART;TZID=UTC:20300225T190000
DTEND;TZID=UTC:20300225T200000
DTSTAMP:20260420T013320
CREATED:20260403T161612Z
LAST-MODIFIED:20260403T161617Z
UID:10001702-1898276400-1898280000@suncrystals.ca
SUMMARY:Sound Bath
DESCRIPTION:Facilitator: Tracy Arbuckle              |          Cost: $35.55 \n  \nJoin me in a meditative experience where you will be bathed in resonate sounds produced by singing bowls\, gongs and chimes. The goal is to promote relaxation\, mindfulness and a deeper state of calm \n$10 off your first Sound Bath with coupon. Code SCSAVE10 \nBring a yoga mat\, blanket and pillow \n 
URL:https://suncrystals.ca/workshop-calendar/sound-bath-2-2-2/2030-02-25/
LOCATION:The Lotus Room at Sun Crystals\, 26 Ainslie Street North\, Cambridge\, ON\, N1R 3J4\, Canada
ORGANIZER;CN="Tracy Arbuckle":MAILTO:tracy112274@gmail.com
END:VEVENT
BEGIN:VEVENT
DTSTART;TZID=UTC:20300304T190000
DTEND;TZID=UTC:20300304T200000
DTSTAMP:20260420T013320
CREATED:20260403T161612Z
LAST-MODIFIED:20260403T161617Z
UID:10001703-1898881200-1898884800@suncrystals.ca
SUMMARY:Sound Bath
DESCRIPTION:Facilitator: Tracy Arbuckle              |          Cost: $35.55 \n  \nJoin me in a meditative experience where you will be bathed in resonate sounds produced by singing bowls\, gongs and chimes. The goal is to promote relaxation\, mindfulness and a deeper state of calm \n$10 off your first Sound Bath with coupon. Code SCSAVE10 \nBring a yoga mat\, blanket and pillow \n 
URL:https://suncrystals.ca/workshop-calendar/sound-bath-2-2-2/2030-03-04/
LOCATION:The Lotus Room at Sun Crystals\, 26 Ainslie Street North\, Cambridge\, ON\, N1R 3J4\, Canada
ORGANIZER;CN="Tracy Arbuckle":MAILTO:tracy112274@gmail.com
END:VEVENT
BEGIN:VEVENT
DTSTART;TZID=UTC:20300311T190000
DTEND;TZID=UTC:20300311T200000
DTSTAMP:20260420T013320
CREATED:20260403T161612Z
LAST-MODIFIED:20260403T161617Z
UID:10001704-1899486000-1899489600@suncrystals.ca
SUMMARY:Sound Bath
DESCRIPTION:Facilitator: Tracy Arbuckle              |          Cost: $35.55 \n  \nJoin me in a meditative experience where you will be bathed in resonate sounds produced by singing bowls\, gongs and chimes. The goal is to promote relaxation\, mindfulness and a deeper state of calm \n$10 off your first Sound Bath with coupon. Code SCSAVE10 \nBring a yoga mat\, blanket and pillow \n 
URL:https://suncrystals.ca/workshop-calendar/sound-bath-2-2-2/2030-03-11/
LOCATION:The Lotus Room at Sun Crystals\, 26 Ainslie Street North\, Cambridge\, ON\, N1R 3J4\, Canada
ORGANIZER;CN="Tracy Arbuckle":MAILTO:tracy112274@gmail.com
END:VEVENT
BEGIN:VEVENT
DTSTART;TZID=UTC:20300318T190000
DTEND;TZID=UTC:20300318T200000
DTSTAMP:20260420T013320
CREATED:20260403T161612Z
LAST-MODIFIED:20260403T161617Z
UID:10001705-1900090800-1900094400@suncrystals.ca
SUMMARY:Sound Bath
DESCRIPTION:Facilitator: Tracy Arbuckle              |          Cost: $35.55 \n  \nJoin me in a meditative experience where you will be bathed in resonate sounds produced by singing bowls\, gongs and chimes. The goal is to promote relaxation\, mindfulness and a deeper state of calm \n$10 off your first Sound Bath with coupon. Code SCSAVE10 \nBring a yoga mat\, blanket and pillow \n 
URL:https://suncrystals.ca/workshop-calendar/sound-bath-2-2-2/2030-03-18/
LOCATION:The Lotus Room at Sun Crystals\, 26 Ainslie Street North\, Cambridge\, ON\, N1R 3J4\, Canada
ORGANIZER;CN="Tracy Arbuckle":MAILTO:tracy112274@gmail.com
END:VEVENT
BEGIN:VEVENT
DTSTART;TZID=UTC:20300325T190000
DTEND;TZID=UTC:20300325T200000
DTSTAMP:20260420T013320
CREATED:20260403T161612Z
LAST-MODIFIED:20260403T161617Z
UID:10001706-1900695600-1900699200@suncrystals.ca
SUMMARY:Sound Bath
DESCRIPTION:Facilitator: Tracy Arbuckle              |          Cost: $35.55 \n  \nJoin me in a meditative experience where you will be bathed in resonate sounds produced by singing bowls\, gongs and chimes. The goal is to promote relaxation\, mindfulness and a deeper state of calm \n$10 off your first Sound Bath with coupon. Code SCSAVE10 \nBring a yoga mat\, blanket and pillow \n 
URL:https://suncrystals.ca/workshop-calendar/sound-bath-2-2-2/2030-03-25/
LOCATION:The Lotus Room at Sun Crystals\, 26 Ainslie Street North\, Cambridge\, ON\, N1R 3J4\, Canada
ORGANIZER;CN="Tracy Arbuckle":MAILTO:tracy112274@gmail.com
END:VEVENT
BEGIN:VEVENT
DTSTART;TZID=UTC:20300401T190000
DTEND;TZID=UTC:20300401T200000
DTSTAMP:20260420T013320
CREATED:20260403T161612Z
LAST-MODIFIED:20260403T161617Z
UID:10001707-1901300400-1901304000@suncrystals.ca
SUMMARY:Sound Bath
DESCRIPTION:Facilitator: Tracy Arbuckle              |          Cost: $35.55 \n  \nJoin me in a meditative experience where you will be bathed in resonate sounds produced by singing bowls\, gongs and chimes. The goal is to promote relaxation\, mindfulness and a deeper state of calm \n$10 off your first Sound Bath with coupon. Code SCSAVE10 \nBring a yoga mat\, blanket and pillow \n 
URL:https://suncrystals.ca/workshop-calendar/sound-bath-2-2-2/2030-04-01/
LOCATION:The Lotus Room at Sun Crystals\, 26 Ainslie Street North\, Cambridge\, ON\, N1R 3J4\, Canada
ORGANIZER;CN="Tracy Arbuckle":MAILTO:tracy112274@gmail.com
END:VEVENT
END:VCALENDAR