BEGIN:VCALENDAR
VERSION:2.0
PRODID:-//Sun Crystals - ECPv6.15.20//NONSGML v1.0//EN
CALSCALE:GREGORIAN
METHOD:PUBLISH
X-ORIGINAL-URL:https://suncrystals.ca
X-WR-CALDESC:Events for Sun Crystals
REFRESH-INTERVAL;VALUE=DURATION:PT1H
X-Robots-Tag:noindex
X-PUBLISHED-TTL:PT1H
BEGIN:VTIMEZONE
TZID:UTC
BEGIN:STANDARD
TZOFFSETFROM:+0000
TZOFFSETTO:+0000
TZNAME:UTC
DTSTART:20290101T000000
END:STANDARD
END:VTIMEZONE
BEGIN:VEVENT
DTSTART;TZID=UTC:20300520T190000
DTEND;TZID=UTC:20300520T200000
DTSTAMP:20260420T060212
CREATED:20260403T161612Z
LAST-MODIFIED:20260403T161617Z
UID:10001714-1905534000-1905537600@suncrystals.ca
SUMMARY:Sound Bath
DESCRIPTION:Facilitator: Tracy Arbuckle              |          Cost: $35.55 \n  \nJoin me in a meditative experience where you will be bathed in resonate sounds produced by singing bowls\, gongs and chimes. The goal is to promote relaxation\, mindfulness and a deeper state of calm \n$10 off your first Sound Bath with coupon. Code SCSAVE10 \nBring a yoga mat\, blanket and pillow \n 
URL:https://suncrystals.ca/workshop-calendar/sound-bath-2-2-2/2030-05-20/
LOCATION:The Lotus Room at Sun Crystals\, 26 Ainslie Street North\, Cambridge\, ON\, N1R 3J4\, Canada
ORGANIZER;CN="Tracy Arbuckle":MAILTO:tracy112274@gmail.com
END:VEVENT
BEGIN:VEVENT
DTSTART;TZID=UTC:20300527T190000
DTEND;TZID=UTC:20300527T200000
DTSTAMP:20260420T060212
CREATED:20260403T161612Z
LAST-MODIFIED:20260403T161617Z
UID:10001715-1906138800-1906142400@suncrystals.ca
SUMMARY:Sound Bath
DESCRIPTION:Facilitator: Tracy Arbuckle              |          Cost: $35.55 \n  \nJoin me in a meditative experience where you will be bathed in resonate sounds produced by singing bowls\, gongs and chimes. The goal is to promote relaxation\, mindfulness and a deeper state of calm \n$10 off your first Sound Bath with coupon. Code SCSAVE10 \nBring a yoga mat\, blanket and pillow \n 
URL:https://suncrystals.ca/workshop-calendar/sound-bath-2-2-2/2030-05-27/
LOCATION:The Lotus Room at Sun Crystals\, 26 Ainslie Street North\, Cambridge\, ON\, N1R 3J4\, Canada
ORGANIZER;CN="Tracy Arbuckle":MAILTO:tracy112274@gmail.com
END:VEVENT
BEGIN:VEVENT
DTSTART;TZID=UTC:20300603T190000
DTEND;TZID=UTC:20300603T200000
DTSTAMP:20260420T060212
CREATED:20260403T161612Z
LAST-MODIFIED:20260403T161617Z
UID:10001716-1906743600-1906747200@suncrystals.ca
SUMMARY:Sound Bath
DESCRIPTION:Facilitator: Tracy Arbuckle              |          Cost: $35.55 \n  \nJoin me in a meditative experience where you will be bathed in resonate sounds produced by singing bowls\, gongs and chimes. The goal is to promote relaxation\, mindfulness and a deeper state of calm \n$10 off your first Sound Bath with coupon. Code SCSAVE10 \nBring a yoga mat\, blanket and pillow \n 
URL:https://suncrystals.ca/workshop-calendar/sound-bath-2-2-2/2030-06-03/
LOCATION:The Lotus Room at Sun Crystals\, 26 Ainslie Street North\, Cambridge\, ON\, N1R 3J4\, Canada
ORGANIZER;CN="Tracy Arbuckle":MAILTO:tracy112274@gmail.com
END:VEVENT
BEGIN:VEVENT
DTSTART;TZID=UTC:20300610T190000
DTEND;TZID=UTC:20300610T200000
DTSTAMP:20260420T060212
CREATED:20260403T161612Z
LAST-MODIFIED:20260403T161617Z
UID:10001717-1907348400-1907352000@suncrystals.ca
SUMMARY:Sound Bath
DESCRIPTION:Facilitator: Tracy Arbuckle              |          Cost: $35.55 \n  \nJoin me in a meditative experience where you will be bathed in resonate sounds produced by singing bowls\, gongs and chimes. The goal is to promote relaxation\, mindfulness and a deeper state of calm \n$10 off your first Sound Bath with coupon. Code SCSAVE10 \nBring a yoga mat\, blanket and pillow \n 
URL:https://suncrystals.ca/workshop-calendar/sound-bath-2-2-2/2030-06-10/
LOCATION:The Lotus Room at Sun Crystals\, 26 Ainslie Street North\, Cambridge\, ON\, N1R 3J4\, Canada
ORGANIZER;CN="Tracy Arbuckle":MAILTO:tracy112274@gmail.com
END:VEVENT
BEGIN:VEVENT
DTSTART;TZID=UTC:20300617T190000
DTEND;TZID=UTC:20300617T200000
DTSTAMP:20260420T060212
CREATED:20260403T161612Z
LAST-MODIFIED:20260403T161617Z
UID:10001718-1907953200-1907956800@suncrystals.ca
SUMMARY:Sound Bath
DESCRIPTION:Facilitator: Tracy Arbuckle              |          Cost: $35.55 \n  \nJoin me in a meditative experience where you will be bathed in resonate sounds produced by singing bowls\, gongs and chimes. The goal is to promote relaxation\, mindfulness and a deeper state of calm \n$10 off your first Sound Bath with coupon. Code SCSAVE10 \nBring a yoga mat\, blanket and pillow \n 
URL:https://suncrystals.ca/workshop-calendar/sound-bath-2-2-2/2030-06-17/
LOCATION:The Lotus Room at Sun Crystals\, 26 Ainslie Street North\, Cambridge\, ON\, N1R 3J4\, Canada
ORGANIZER;CN="Tracy Arbuckle":MAILTO:tracy112274@gmail.com
END:VEVENT
BEGIN:VEVENT
DTSTART;TZID=UTC:20300624T190000
DTEND;TZID=UTC:20300624T200000
DTSTAMP:20260420T060212
CREATED:20260403T161612Z
LAST-MODIFIED:20260403T161617Z
UID:10001719-1908558000-1908561600@suncrystals.ca
SUMMARY:Sound Bath
DESCRIPTION:Facilitator: Tracy Arbuckle              |          Cost: $35.55 \n  \nJoin me in a meditative experience where you will be bathed in resonate sounds produced by singing bowls\, gongs and chimes. The goal is to promote relaxation\, mindfulness and a deeper state of calm \n$10 off your first Sound Bath with coupon. Code SCSAVE10 \nBring a yoga mat\, blanket and pillow \n 
URL:https://suncrystals.ca/workshop-calendar/sound-bath-2-2-2/2030-06-24/
LOCATION:The Lotus Room at Sun Crystals\, 26 Ainslie Street North\, Cambridge\, ON\, N1R 3J4\, Canada
ORGANIZER;CN="Tracy Arbuckle":MAILTO:tracy112274@gmail.com
END:VEVENT
BEGIN:VEVENT
DTSTART;TZID=UTC:20300701T190000
DTEND;TZID=UTC:20300701T200000
DTSTAMP:20260420T060212
CREATED:20260403T161612Z
LAST-MODIFIED:20260403T161617Z
UID:10001720-1909162800-1909166400@suncrystals.ca
SUMMARY:Sound Bath
DESCRIPTION:Facilitator: Tracy Arbuckle              |          Cost: $35.55 \n  \nJoin me in a meditative experience where you will be bathed in resonate sounds produced by singing bowls\, gongs and chimes. The goal is to promote relaxation\, mindfulness and a deeper state of calm \n$10 off your first Sound Bath with coupon. Code SCSAVE10 \nBring a yoga mat\, blanket and pillow \n 
URL:https://suncrystals.ca/workshop-calendar/sound-bath-2-2-2/2030-07-01/
LOCATION:The Lotus Room at Sun Crystals\, 26 Ainslie Street North\, Cambridge\, ON\, N1R 3J4\, Canada
ORGANIZER;CN="Tracy Arbuckle":MAILTO:tracy112274@gmail.com
END:VEVENT
BEGIN:VEVENT
DTSTART;TZID=UTC:20300708T190000
DTEND;TZID=UTC:20300708T200000
DTSTAMP:20260420T060212
CREATED:20260403T161612Z
LAST-MODIFIED:20260403T161617Z
UID:10001721-1909767600-1909771200@suncrystals.ca
SUMMARY:Sound Bath
DESCRIPTION:Facilitator: Tracy Arbuckle              |          Cost: $35.55 \n  \nJoin me in a meditative experience where you will be bathed in resonate sounds produced by singing bowls\, gongs and chimes. The goal is to promote relaxation\, mindfulness and a deeper state of calm \n$10 off your first Sound Bath with coupon. Code SCSAVE10 \nBring a yoga mat\, blanket and pillow \n 
URL:https://suncrystals.ca/workshop-calendar/sound-bath-2-2-2/2030-07-08/
LOCATION:The Lotus Room at Sun Crystals\, 26 Ainslie Street North\, Cambridge\, ON\, N1R 3J4\, Canada
ORGANIZER;CN="Tracy Arbuckle":MAILTO:tracy112274@gmail.com
END:VEVENT
BEGIN:VEVENT
DTSTART;TZID=UTC:20300715T190000
DTEND;TZID=UTC:20300715T200000
DTSTAMP:20260420T060213
CREATED:20260403T161612Z
LAST-MODIFIED:20260403T161617Z
UID:10001722-1910372400-1910376000@suncrystals.ca
SUMMARY:Sound Bath
DESCRIPTION:Facilitator: Tracy Arbuckle              |          Cost: $35.55 \n  \nJoin me in a meditative experience where you will be bathed in resonate sounds produced by singing bowls\, gongs and chimes. The goal is to promote relaxation\, mindfulness and a deeper state of calm \n$10 off your first Sound Bath with coupon. Code SCSAVE10 \nBring a yoga mat\, blanket and pillow \n 
URL:https://suncrystals.ca/workshop-calendar/sound-bath-2-2-2/2030-07-15/
LOCATION:The Lotus Room at Sun Crystals\, 26 Ainslie Street North\, Cambridge\, ON\, N1R 3J4\, Canada
ORGANIZER;CN="Tracy Arbuckle":MAILTO:tracy112274@gmail.com
END:VEVENT
BEGIN:VEVENT
DTSTART;TZID=UTC:20300722T190000
DTEND;TZID=UTC:20300722T200000
DTSTAMP:20260420T060213
CREATED:20260403T161612Z
LAST-MODIFIED:20260403T161617Z
UID:10001723-1910977200-1910980800@suncrystals.ca
SUMMARY:Sound Bath
DESCRIPTION:Facilitator: Tracy Arbuckle              |          Cost: $35.55 \n  \nJoin me in a meditative experience where you will be bathed in resonate sounds produced by singing bowls\, gongs and chimes. The goal is to promote relaxation\, mindfulness and a deeper state of calm \n$10 off your first Sound Bath with coupon. Code SCSAVE10 \nBring a yoga mat\, blanket and pillow \n 
URL:https://suncrystals.ca/workshop-calendar/sound-bath-2-2-2/2030-07-22/
LOCATION:The Lotus Room at Sun Crystals\, 26 Ainslie Street North\, Cambridge\, ON\, N1R 3J4\, Canada
ORGANIZER;CN="Tracy Arbuckle":MAILTO:tracy112274@gmail.com
END:VEVENT
BEGIN:VEVENT
DTSTART;TZID=UTC:20300729T190000
DTEND;TZID=UTC:20300729T200000
DTSTAMP:20260420T060213
CREATED:20260403T161612Z
LAST-MODIFIED:20260403T161617Z
UID:10001724-1911582000-1911585600@suncrystals.ca
SUMMARY:Sound Bath
DESCRIPTION:Facilitator: Tracy Arbuckle              |          Cost: $35.55 \n  \nJoin me in a meditative experience where you will be bathed in resonate sounds produced by singing bowls\, gongs and chimes. The goal is to promote relaxation\, mindfulness and a deeper state of calm \n$10 off your first Sound Bath with coupon. Code SCSAVE10 \nBring a yoga mat\, blanket and pillow \n 
URL:https://suncrystals.ca/workshop-calendar/sound-bath-2-2-2/2030-07-29/
LOCATION:The Lotus Room at Sun Crystals\, 26 Ainslie Street North\, Cambridge\, ON\, N1R 3J4\, Canada
ORGANIZER;CN="Tracy Arbuckle":MAILTO:tracy112274@gmail.com
END:VEVENT
BEGIN:VEVENT
DTSTART;TZID=UTC:20300805T190000
DTEND;TZID=UTC:20300805T200000
DTSTAMP:20260420T060213
CREATED:20260403T161612Z
LAST-MODIFIED:20260403T161617Z
UID:10001725-1912186800-1912190400@suncrystals.ca
SUMMARY:Sound Bath
DESCRIPTION:Facilitator: Tracy Arbuckle              |          Cost: $35.55 \n  \nJoin me in a meditative experience where you will be bathed in resonate sounds produced by singing bowls\, gongs and chimes. The goal is to promote relaxation\, mindfulness and a deeper state of calm \n$10 off your first Sound Bath with coupon. Code SCSAVE10 \nBring a yoga mat\, blanket and pillow \n 
URL:https://suncrystals.ca/workshop-calendar/sound-bath-2-2-2/2030-08-05/
LOCATION:The Lotus Room at Sun Crystals\, 26 Ainslie Street North\, Cambridge\, ON\, N1R 3J4\, Canada
ORGANIZER;CN="Tracy Arbuckle":MAILTO:tracy112274@gmail.com
END:VEVENT
BEGIN:VEVENT
DTSTART;TZID=UTC:20300812T190000
DTEND;TZID=UTC:20300812T200000
DTSTAMP:20260420T060213
CREATED:20260403T161612Z
LAST-MODIFIED:20260403T161617Z
UID:10001726-1912791600-1912795200@suncrystals.ca
SUMMARY:Sound Bath
DESCRIPTION:Facilitator: Tracy Arbuckle              |          Cost: $35.55 \n  \nJoin me in a meditative experience where you will be bathed in resonate sounds produced by singing bowls\, gongs and chimes. The goal is to promote relaxation\, mindfulness and a deeper state of calm \n$10 off your first Sound Bath with coupon. Code SCSAVE10 \nBring a yoga mat\, blanket and pillow \n 
URL:https://suncrystals.ca/workshop-calendar/sound-bath-2-2-2/2030-08-12/
LOCATION:The Lotus Room at Sun Crystals\, 26 Ainslie Street North\, Cambridge\, ON\, N1R 3J4\, Canada
ORGANIZER;CN="Tracy Arbuckle":MAILTO:tracy112274@gmail.com
END:VEVENT
BEGIN:VEVENT
DTSTART;TZID=UTC:20300819T190000
DTEND;TZID=UTC:20300819T200000
DTSTAMP:20260420T060213
CREATED:20260403T161612Z
LAST-MODIFIED:20260403T161617Z
UID:10001727-1913396400-1913400000@suncrystals.ca
SUMMARY:Sound Bath
DESCRIPTION:Facilitator: Tracy Arbuckle              |          Cost: $35.55 \n  \nJoin me in a meditative experience where you will be bathed in resonate sounds produced by singing bowls\, gongs and chimes. The goal is to promote relaxation\, mindfulness and a deeper state of calm \n$10 off your first Sound Bath with coupon. Code SCSAVE10 \nBring a yoga mat\, blanket and pillow \n 
URL:https://suncrystals.ca/workshop-calendar/sound-bath-2-2-2/2030-08-19/
LOCATION:The Lotus Room at Sun Crystals\, 26 Ainslie Street North\, Cambridge\, ON\, N1R 3J4\, Canada
ORGANIZER;CN="Tracy Arbuckle":MAILTO:tracy112274@gmail.com
END:VEVENT
BEGIN:VEVENT
DTSTART;TZID=UTC:20300826T190000
DTEND;TZID=UTC:20300826T200000
DTSTAMP:20260420T060213
CREATED:20260403T161612Z
LAST-MODIFIED:20260403T161617Z
UID:10001728-1914001200-1914004800@suncrystals.ca
SUMMARY:Sound Bath
DESCRIPTION:Facilitator: Tracy Arbuckle              |          Cost: $35.55 \n  \nJoin me in a meditative experience where you will be bathed in resonate sounds produced by singing bowls\, gongs and chimes. The goal is to promote relaxation\, mindfulness and a deeper state of calm \n$10 off your first Sound Bath with coupon. Code SCSAVE10 \nBring a yoga mat\, blanket and pillow \n 
URL:https://suncrystals.ca/workshop-calendar/sound-bath-2-2-2/2030-08-26/
LOCATION:The Lotus Room at Sun Crystals\, 26 Ainslie Street North\, Cambridge\, ON\, N1R 3J4\, Canada
ORGANIZER;CN="Tracy Arbuckle":MAILTO:tracy112274@gmail.com
END:VEVENT
BEGIN:VEVENT
DTSTART;TZID=UTC:20300902T190000
DTEND;TZID=UTC:20300902T200000
DTSTAMP:20260420T060213
CREATED:20260403T161612Z
LAST-MODIFIED:20260403T161617Z
UID:10001729-1914606000-1914609600@suncrystals.ca
SUMMARY:Sound Bath
DESCRIPTION:Facilitator: Tracy Arbuckle              |          Cost: $35.55 \n  \nJoin me in a meditative experience where you will be bathed in resonate sounds produced by singing bowls\, gongs and chimes. The goal is to promote relaxation\, mindfulness and a deeper state of calm \n$10 off your first Sound Bath with coupon. Code SCSAVE10 \nBring a yoga mat\, blanket and pillow \n 
URL:https://suncrystals.ca/workshop-calendar/sound-bath-2-2-2/2030-09-02/
LOCATION:The Lotus Room at Sun Crystals\, 26 Ainslie Street North\, Cambridge\, ON\, N1R 3J4\, Canada
ORGANIZER;CN="Tracy Arbuckle":MAILTO:tracy112274@gmail.com
END:VEVENT
BEGIN:VEVENT
DTSTART;TZID=UTC:20300909T190000
DTEND;TZID=UTC:20300909T200000
DTSTAMP:20260420T060213
CREATED:20260403T161612Z
LAST-MODIFIED:20260403T161617Z
UID:10001730-1915210800-1915214400@suncrystals.ca
SUMMARY:Sound Bath
DESCRIPTION:Facilitator: Tracy Arbuckle              |          Cost: $35.55 \n  \nJoin me in a meditative experience where you will be bathed in resonate sounds produced by singing bowls\, gongs and chimes. The goal is to promote relaxation\, mindfulness and a deeper state of calm \n$10 off your first Sound Bath with coupon. Code SCSAVE10 \nBring a yoga mat\, blanket and pillow \n 
URL:https://suncrystals.ca/workshop-calendar/sound-bath-2-2-2/2030-09-09/
LOCATION:The Lotus Room at Sun Crystals\, 26 Ainslie Street North\, Cambridge\, ON\, N1R 3J4\, Canada
ORGANIZER;CN="Tracy Arbuckle":MAILTO:tracy112274@gmail.com
END:VEVENT
BEGIN:VEVENT
DTSTART;TZID=UTC:20300916T190000
DTEND;TZID=UTC:20300916T200000
DTSTAMP:20260420T060213
CREATED:20260403T161612Z
LAST-MODIFIED:20260403T161617Z
UID:10001731-1915815600-1915819200@suncrystals.ca
SUMMARY:Sound Bath
DESCRIPTION:Facilitator: Tracy Arbuckle              |          Cost: $35.55 \n  \nJoin me in a meditative experience where you will be bathed in resonate sounds produced by singing bowls\, gongs and chimes. The goal is to promote relaxation\, mindfulness and a deeper state of calm \n$10 off your first Sound Bath with coupon. Code SCSAVE10 \nBring a yoga mat\, blanket and pillow \n 
URL:https://suncrystals.ca/workshop-calendar/sound-bath-2-2-2/2030-09-16/
LOCATION:The Lotus Room at Sun Crystals\, 26 Ainslie Street North\, Cambridge\, ON\, N1R 3J4\, Canada
ORGANIZER;CN="Tracy Arbuckle":MAILTO:tracy112274@gmail.com
END:VEVENT
BEGIN:VEVENT
DTSTART;TZID=UTC:20300923T190000
DTEND;TZID=UTC:20300923T200000
DTSTAMP:20260420T060213
CREATED:20260403T161612Z
LAST-MODIFIED:20260403T161617Z
UID:10001732-1916420400-1916424000@suncrystals.ca
SUMMARY:Sound Bath
DESCRIPTION:Facilitator: Tracy Arbuckle              |          Cost: $35.55 \n  \nJoin me in a meditative experience where you will be bathed in resonate sounds produced by singing bowls\, gongs and chimes. The goal is to promote relaxation\, mindfulness and a deeper state of calm \n$10 off your first Sound Bath with coupon. Code SCSAVE10 \nBring a yoga mat\, blanket and pillow \n 
URL:https://suncrystals.ca/workshop-calendar/sound-bath-2-2-2/2030-09-23/
LOCATION:The Lotus Room at Sun Crystals\, 26 Ainslie Street North\, Cambridge\, ON\, N1R 3J4\, Canada
ORGANIZER;CN="Tracy Arbuckle":MAILTO:tracy112274@gmail.com
END:VEVENT
BEGIN:VEVENT
DTSTART;TZID=UTC:20300930T190000
DTEND;TZID=UTC:20300930T200000
DTSTAMP:20260420T060213
CREATED:20260403T161612Z
LAST-MODIFIED:20260403T161617Z
UID:10001733-1917025200-1917028800@suncrystals.ca
SUMMARY:Sound Bath
DESCRIPTION:Facilitator: Tracy Arbuckle              |          Cost: $35.55 \n  \nJoin me in a meditative experience where you will be bathed in resonate sounds produced by singing bowls\, gongs and chimes. The goal is to promote relaxation\, mindfulness and a deeper state of calm \n$10 off your first Sound Bath with coupon. Code SCSAVE10 \nBring a yoga mat\, blanket and pillow \n 
URL:https://suncrystals.ca/workshop-calendar/sound-bath-2-2-2/2030-09-30/
LOCATION:The Lotus Room at Sun Crystals\, 26 Ainslie Street North\, Cambridge\, ON\, N1R 3J4\, Canada
ORGANIZER;CN="Tracy Arbuckle":MAILTO:tracy112274@gmail.com
END:VEVENT
BEGIN:VEVENT
DTSTART;TZID=UTC:20301007T190000
DTEND;TZID=UTC:20301007T200000
DTSTAMP:20260420T060213
CREATED:20260403T161612Z
LAST-MODIFIED:20260403T161617Z
UID:10001734-1917630000-1917633600@suncrystals.ca
SUMMARY:Sound Bath
DESCRIPTION:Facilitator: Tracy Arbuckle              |          Cost: $35.55 \n  \nJoin me in a meditative experience where you will be bathed in resonate sounds produced by singing bowls\, gongs and chimes. The goal is to promote relaxation\, mindfulness and a deeper state of calm \n$10 off your first Sound Bath with coupon. Code SCSAVE10 \nBring a yoga mat\, blanket and pillow \n 
URL:https://suncrystals.ca/workshop-calendar/sound-bath-2-2-2/2030-10-07/
LOCATION:The Lotus Room at Sun Crystals\, 26 Ainslie Street North\, Cambridge\, ON\, N1R 3J4\, Canada
ORGANIZER;CN="Tracy Arbuckle":MAILTO:tracy112274@gmail.com
END:VEVENT
BEGIN:VEVENT
DTSTART;TZID=UTC:20301014T190000
DTEND;TZID=UTC:20301014T200000
DTSTAMP:20260420T060213
CREATED:20260403T161612Z
LAST-MODIFIED:20260403T161617Z
UID:10001735-1918234800-1918238400@suncrystals.ca
SUMMARY:Sound Bath
DESCRIPTION:Facilitator: Tracy Arbuckle              |          Cost: $35.55 \n  \nJoin me in a meditative experience where you will be bathed in resonate sounds produced by singing bowls\, gongs and chimes. The goal is to promote relaxation\, mindfulness and a deeper state of calm \n$10 off your first Sound Bath with coupon. Code SCSAVE10 \nBring a yoga mat\, blanket and pillow \n 
URL:https://suncrystals.ca/workshop-calendar/sound-bath-2-2-2/2030-10-14/
LOCATION:The Lotus Room at Sun Crystals\, 26 Ainslie Street North\, Cambridge\, ON\, N1R 3J4\, Canada
ORGANIZER;CN="Tracy Arbuckle":MAILTO:tracy112274@gmail.com
END:VEVENT
BEGIN:VEVENT
DTSTART;TZID=UTC:20301021T190000
DTEND;TZID=UTC:20301021T200000
DTSTAMP:20260420T060213
CREATED:20260403T161612Z
LAST-MODIFIED:20260403T161617Z
UID:10001736-1918839600-1918843200@suncrystals.ca
SUMMARY:Sound Bath
DESCRIPTION:Facilitator: Tracy Arbuckle              |          Cost: $35.55 \n  \nJoin me in a meditative experience where you will be bathed in resonate sounds produced by singing bowls\, gongs and chimes. The goal is to promote relaxation\, mindfulness and a deeper state of calm \n$10 off your first Sound Bath with coupon. Code SCSAVE10 \nBring a yoga mat\, blanket and pillow \n 
URL:https://suncrystals.ca/workshop-calendar/sound-bath-2-2-2/2030-10-21/
LOCATION:The Lotus Room at Sun Crystals\, 26 Ainslie Street North\, Cambridge\, ON\, N1R 3J4\, Canada
ORGANIZER;CN="Tracy Arbuckle":MAILTO:tracy112274@gmail.com
END:VEVENT
BEGIN:VEVENT
DTSTART;TZID=UTC:20301028T190000
DTEND;TZID=UTC:20301028T200000
DTSTAMP:20260420T060213
CREATED:20260403T161612Z
LAST-MODIFIED:20260403T161617Z
UID:10001737-1919444400-1919448000@suncrystals.ca
SUMMARY:Sound Bath
DESCRIPTION:Facilitator: Tracy Arbuckle              |          Cost: $35.55 \n  \nJoin me in a meditative experience where you will be bathed in resonate sounds produced by singing bowls\, gongs and chimes. The goal is to promote relaxation\, mindfulness and a deeper state of calm \n$10 off your first Sound Bath with coupon. Code SCSAVE10 \nBring a yoga mat\, blanket and pillow \n 
URL:https://suncrystals.ca/workshop-calendar/sound-bath-2-2-2/2030-10-28/
LOCATION:The Lotus Room at Sun Crystals\, 26 Ainslie Street North\, Cambridge\, ON\, N1R 3J4\, Canada
ORGANIZER;CN="Tracy Arbuckle":MAILTO:tracy112274@gmail.com
END:VEVENT
BEGIN:VEVENT
DTSTART;TZID=UTC:20301104T190000
DTEND;TZID=UTC:20301104T200000
DTSTAMP:20260420T060213
CREATED:20260403T161612Z
LAST-MODIFIED:20260403T161617Z
UID:10001738-1920049200-1920052800@suncrystals.ca
SUMMARY:Sound Bath
DESCRIPTION:Facilitator: Tracy Arbuckle              |          Cost: $35.55 \n  \nJoin me in a meditative experience where you will be bathed in resonate sounds produced by singing bowls\, gongs and chimes. The goal is to promote relaxation\, mindfulness and a deeper state of calm \n$10 off your first Sound Bath with coupon. Code SCSAVE10 \nBring a yoga mat\, blanket and pillow \n 
URL:https://suncrystals.ca/workshop-calendar/sound-bath-2-2-2/2030-11-04/
LOCATION:The Lotus Room at Sun Crystals\, 26 Ainslie Street North\, Cambridge\, ON\, N1R 3J4\, Canada
ORGANIZER;CN="Tracy Arbuckle":MAILTO:tracy112274@gmail.com
END:VEVENT
BEGIN:VEVENT
DTSTART;TZID=UTC:20301111T190000
DTEND;TZID=UTC:20301111T200000
DTSTAMP:20260420T060213
CREATED:20260403T161612Z
LAST-MODIFIED:20260403T161617Z
UID:10001739-1920654000-1920657600@suncrystals.ca
SUMMARY:Sound Bath
DESCRIPTION:Facilitator: Tracy Arbuckle              |          Cost: $35.55 \n  \nJoin me in a meditative experience where you will be bathed in resonate sounds produced by singing bowls\, gongs and chimes. The goal is to promote relaxation\, mindfulness and a deeper state of calm \n$10 off your first Sound Bath with coupon. Code SCSAVE10 \nBring a yoga mat\, blanket and pillow \n 
URL:https://suncrystals.ca/workshop-calendar/sound-bath-2-2-2/2030-11-11/
LOCATION:The Lotus Room at Sun Crystals\, 26 Ainslie Street North\, Cambridge\, ON\, N1R 3J4\, Canada
ORGANIZER;CN="Tracy Arbuckle":MAILTO:tracy112274@gmail.com
END:VEVENT
BEGIN:VEVENT
DTSTART;TZID=UTC:20301118T190000
DTEND;TZID=UTC:20301118T200000
DTSTAMP:20260420T060213
CREATED:20260403T161612Z
LAST-MODIFIED:20260403T161617Z
UID:10001740-1921258800-1921262400@suncrystals.ca
SUMMARY:Sound Bath
DESCRIPTION:Facilitator: Tracy Arbuckle              |          Cost: $35.55 \n  \nJoin me in a meditative experience where you will be bathed in resonate sounds produced by singing bowls\, gongs and chimes. The goal is to promote relaxation\, mindfulness and a deeper state of calm \n$10 off your first Sound Bath with coupon. Code SCSAVE10 \nBring a yoga mat\, blanket and pillow \n 
URL:https://suncrystals.ca/workshop-calendar/sound-bath-2-2-2/2030-11-18/
LOCATION:The Lotus Room at Sun Crystals\, 26 Ainslie Street North\, Cambridge\, ON\, N1R 3J4\, Canada
ORGANIZER;CN="Tracy Arbuckle":MAILTO:tracy112274@gmail.com
END:VEVENT
BEGIN:VEVENT
DTSTART;TZID=UTC:20301125T190000
DTEND;TZID=UTC:20301125T200000
DTSTAMP:20260420T060213
CREATED:20260403T161612Z
LAST-MODIFIED:20260403T161617Z
UID:10001741-1921863600-1921867200@suncrystals.ca
SUMMARY:Sound Bath
DESCRIPTION:Facilitator: Tracy Arbuckle              |          Cost: $35.55 \n  \nJoin me in a meditative experience where you will be bathed in resonate sounds produced by singing bowls\, gongs and chimes. The goal is to promote relaxation\, mindfulness and a deeper state of calm \n$10 off your first Sound Bath with coupon. Code SCSAVE10 \nBring a yoga mat\, blanket and pillow \n 
URL:https://suncrystals.ca/workshop-calendar/sound-bath-2-2-2/2030-11-25/
LOCATION:The Lotus Room at Sun Crystals\, 26 Ainslie Street North\, Cambridge\, ON\, N1R 3J4\, Canada
ORGANIZER;CN="Tracy Arbuckle":MAILTO:tracy112274@gmail.com
END:VEVENT
BEGIN:VEVENT
DTSTART;TZID=UTC:20301202T190000
DTEND;TZID=UTC:20301202T200000
DTSTAMP:20260420T060213
CREATED:20260403T161612Z
LAST-MODIFIED:20260403T161617Z
UID:10001742-1922468400-1922472000@suncrystals.ca
SUMMARY:Sound Bath
DESCRIPTION:Facilitator: Tracy Arbuckle              |          Cost: $35.55 \n  \nJoin me in a meditative experience where you will be bathed in resonate sounds produced by singing bowls\, gongs and chimes. The goal is to promote relaxation\, mindfulness and a deeper state of calm \n$10 off your first Sound Bath with coupon. Code SCSAVE10 \nBring a yoga mat\, blanket and pillow \n 
URL:https://suncrystals.ca/workshop-calendar/sound-bath-2-2-2/2030-12-02/
LOCATION:The Lotus Room at Sun Crystals\, 26 Ainslie Street North\, Cambridge\, ON\, N1R 3J4\, Canada
ORGANIZER;CN="Tracy Arbuckle":MAILTO:tracy112274@gmail.com
END:VEVENT
BEGIN:VEVENT
DTSTART;TZID=UTC:20301209T190000
DTEND;TZID=UTC:20301209T200000
DTSTAMP:20260420T060213
CREATED:20260403T161612Z
LAST-MODIFIED:20260403T161617Z
UID:10001743-1923073200-1923076800@suncrystals.ca
SUMMARY:Sound Bath
DESCRIPTION:Facilitator: Tracy Arbuckle              |          Cost: $35.55 \n  \nJoin me in a meditative experience where you will be bathed in resonate sounds produced by singing bowls\, gongs and chimes. The goal is to promote relaxation\, mindfulness and a deeper state of calm \n$10 off your first Sound Bath with coupon. Code SCSAVE10 \nBring a yoga mat\, blanket and pillow \n 
URL:https://suncrystals.ca/workshop-calendar/sound-bath-2-2-2/2030-12-09/
LOCATION:The Lotus Room at Sun Crystals\, 26 Ainslie Street North\, Cambridge\, ON\, N1R 3J4\, Canada
ORGANIZER;CN="Tracy Arbuckle":MAILTO:tracy112274@gmail.com
END:VEVENT
END:VCALENDAR