BEGIN:VCALENDAR
VERSION:2.0
PRODID:-//Sun Crystals - ECPv6.15.20//NONSGML v1.0//EN
CALSCALE:GREGORIAN
METHOD:PUBLISH
X-WR-CALNAME:Sun Crystals
X-ORIGINAL-URL:https://suncrystals.ca
X-WR-CALDESC:Events for Sun Crystals
REFRESH-INTERVAL;VALUE=DURATION:PT1H
X-Robots-Tag:noindex
X-PUBLISHED-TTL:PT1H
BEGIN:VTIMEZONE
TZID:UTC
BEGIN:STANDARD
TZOFFSETFROM:+0000
TZOFFSETTO:+0000
TZNAME:UTC
DTSTART:20260101T000000
END:STANDARD
END:VTIMEZONE
BEGIN:VEVENT
DTSTART;TZID=UTC:20271206T190000
DTEND;TZID=UTC:20271206T200000
DTSTAMP:20260423T083634
CREATED:20260403T161612Z
LAST-MODIFIED:20260403T161617Z
UID:10001586-1828119600-1828123200@suncrystals.ca
SUMMARY:Sound Bath
DESCRIPTION:Facilitator: Tracy Arbuckle              |          Cost: $35.55 \n  \nJoin me in a meditative experience where you will be bathed in resonate sounds produced by singing bowls\, gongs and chimes. The goal is to promote relaxation\, mindfulness and a deeper state of calm \n$10 off your first Sound Bath with coupon. Code SCSAVE10 \nBring a yoga mat\, blanket and pillow \n 
URL:https://suncrystals.ca/workshop-calendar/sound-bath-2-2-2/2027-12-06/
LOCATION:The Lotus Room at Sun Crystals\, 26 Ainslie Street North\, Cambridge\, ON\, N1R 3J4\, Canada
ORGANIZER;CN="Tracy Arbuckle":MAILTO:tracy112274@gmail.com
END:VEVENT
BEGIN:VEVENT
DTSTART;TZID=UTC:20271213T190000
DTEND;TZID=UTC:20271213T200000
DTSTAMP:20260423T083634
CREATED:20260403T161612Z
LAST-MODIFIED:20260403T161617Z
UID:10001587-1828724400-1828728000@suncrystals.ca
SUMMARY:Sound Bath
DESCRIPTION:Facilitator: Tracy Arbuckle              |          Cost: $35.55 \n  \nJoin me in a meditative experience where you will be bathed in resonate sounds produced by singing bowls\, gongs and chimes. The goal is to promote relaxation\, mindfulness and a deeper state of calm \n$10 off your first Sound Bath with coupon. Code SCSAVE10 \nBring a yoga mat\, blanket and pillow \n 
URL:https://suncrystals.ca/workshop-calendar/sound-bath-2-2-2/2027-12-13/
LOCATION:The Lotus Room at Sun Crystals\, 26 Ainslie Street North\, Cambridge\, ON\, N1R 3J4\, Canada
ORGANIZER;CN="Tracy Arbuckle":MAILTO:tracy112274@gmail.com
END:VEVENT
BEGIN:VEVENT
DTSTART;TZID=UTC:20271220T190000
DTEND;TZID=UTC:20271220T200000
DTSTAMP:20260423T083634
CREATED:20260403T161612Z
LAST-MODIFIED:20260403T161617Z
UID:10001588-1829329200-1829332800@suncrystals.ca
SUMMARY:Sound Bath
DESCRIPTION:Facilitator: Tracy Arbuckle              |          Cost: $35.55 \n  \nJoin me in a meditative experience where you will be bathed in resonate sounds produced by singing bowls\, gongs and chimes. The goal is to promote relaxation\, mindfulness and a deeper state of calm \n$10 off your first Sound Bath with coupon. Code SCSAVE10 \nBring a yoga mat\, blanket and pillow \n 
URL:https://suncrystals.ca/workshop-calendar/sound-bath-2-2-2/2027-12-20/
LOCATION:The Lotus Room at Sun Crystals\, 26 Ainslie Street North\, Cambridge\, ON\, N1R 3J4\, Canada
ORGANIZER;CN="Tracy Arbuckle":MAILTO:tracy112274@gmail.com
END:VEVENT
BEGIN:VEVENT
DTSTART;TZID=UTC:20271227T190000
DTEND;TZID=UTC:20271227T200000
DTSTAMP:20260423T083634
CREATED:20260403T161612Z
LAST-MODIFIED:20260403T161617Z
UID:10001589-1829934000-1829937600@suncrystals.ca
SUMMARY:Sound Bath
DESCRIPTION:Facilitator: Tracy Arbuckle              |          Cost: $35.55 \n  \nJoin me in a meditative experience where you will be bathed in resonate sounds produced by singing bowls\, gongs and chimes. The goal is to promote relaxation\, mindfulness and a deeper state of calm \n$10 off your first Sound Bath with coupon. Code SCSAVE10 \nBring a yoga mat\, blanket and pillow \n 
URL:https://suncrystals.ca/workshop-calendar/sound-bath-2-2-2/2027-12-27/
LOCATION:The Lotus Room at Sun Crystals\, 26 Ainslie Street North\, Cambridge\, ON\, N1R 3J4\, Canada
ORGANIZER;CN="Tracy Arbuckle":MAILTO:tracy112274@gmail.com
END:VEVENT
END:VCALENDAR